BEGIN:VCALENDAR
VERSION:2.0
PRODID:-//Koinonia Church - ECPv6.15.20//NONSGML v1.0//EN
CALSCALE:GREGORIAN
METHOD:PUBLISH
X-WR-CALNAME:Koinonia Church
X-ORIGINAL-URL:https://koinoniachurch.info
X-WR-CALDESC:Events for Koinonia Church
REFRESH-INTERVAL;VALUE=DURATION:PT1H
X-Robots-Tag:noindex
X-PUBLISHED-TTL:PT1H
BEGIN:VTIMEZONE
TZID:America/Chicago
BEGIN:DAYLIGHT
TZOFFSETFROM:-0600
TZOFFSETTO:-0500
TZNAME:CDT
DTSTART:20230312T080000
END:DAYLIGHT
BEGIN:STANDARD
TZOFFSETFROM:-0500
TZOFFSETTO:-0600
TZNAME:CST
DTSTART:20231105T070000
END:STANDARD
BEGIN:DAYLIGHT
TZOFFSETFROM:-0600
TZOFFSETTO:-0500
TZNAME:CDT
DTSTART:20240310T080000
END:DAYLIGHT
BEGIN:STANDARD
TZOFFSETFROM:-0500
TZOFFSETTO:-0600
TZNAME:CST
DTSTART:20241103T070000
END:STANDARD
BEGIN:DAYLIGHT
TZOFFSETFROM:-0600
TZOFFSETTO:-0500
TZNAME:CDT
DTSTART:20250309T080000
END:DAYLIGHT
BEGIN:STANDARD
TZOFFSETFROM:-0500
TZOFFSETTO:-0600
TZNAME:CST
DTSTART:20251102T070000
END:STANDARD
END:VTIMEZONE
BEGIN:VEVENT
DTSTART;TZID=America/Chicago:20240210T080000
DTEND;TZID=America/Chicago:20240210T120000
DTSTAMP:20260421T074913
CREATED:20231116T022206Z
LAST-MODIFIED:20231116T022206Z
UID:10003971-1707552000-1707566400@koinoniachurch.info
SUMMARY:Compassion United Mobile Market
DESCRIPTION:This drive-through event\, at Lewis Park in Conroe\, will serve around 350 families groceries! They will receive fresh produce\, meat\, and bread and pastries. This is a very efficient and fun way to distribute food to a larger and different demographic of people than what we normally serve at our food pantry location!
URL:https://koinoniachurch.info/event/compassion-united-mobile-market/
LOCATION:Lewis Park\, 501 Park Pl Conroe\, TX 77301\, Conroe\, Texas\, 77301
CATEGORIES:Koinonia
END:VEVENT
BEGIN:VEVENT
DTSTART;TZID=America/Chicago:20240210T080000
DTEND;TZID=America/Chicago:20240210T150000
DTSTAMP:20260421T074913
CREATED:20231108T212058Z
LAST-MODIFIED:20231108T212058Z
UID:10003959-1707552000-1707577200@koinoniachurch.info
SUMMARY:Mason Moon/Deborah Brimm Wedding
DESCRIPTION:Rehearsal and Wedding
URL:https://koinoniachurch.info/event/mason-moon-deborah-brimm-wedding/2024-02-10/
CATEGORIES:Community,Koinonia
END:VEVENT
BEGIN:VEVENT
DTSTART;TZID=America/Chicago:20240210T150000
DTEND;TZID=America/Chicago:20240210T233000
DTSTAMP:20260421T074913
CREATED:20221111T171018Z
LAST-MODIFIED:20221111T194453Z
UID:10002429-1707577200-1707607800@koinoniachurch.info
SUMMARY:Church Maintenance
DESCRIPTION:The church is closed for cleaning.
URL:https://koinoniachurch.info/event/church-maintenance/2024-02-10/
CATEGORIES:Community,Koinonia
ATTACH;FMTTYPE=image/png:https://koinoniachurch.info/wp-content/uploads/2022/10/K.png
END:VEVENT
END:VCALENDAR