BEGIN:VCALENDAR
VERSION:2.0
PRODID:-//Koinonia Church - ECPv6.15.20//NONSGML v1.0//EN
CALSCALE:GREGORIAN
METHOD:PUBLISH
X-ORIGINAL-URL:https://koinoniachurch.info
X-WR-CALDESC:Events for Koinonia Church
REFRESH-INTERVAL;VALUE=DURATION:PT1H
X-Robots-Tag:noindex
X-PUBLISHED-TTL:PT1H
BEGIN:VTIMEZONE
TZID:America/Chicago
BEGIN:DAYLIGHT
TZOFFSETFROM:-0600
TZOFFSETTO:-0500
TZNAME:CDT
DTSTART:20230312T080000
END:DAYLIGHT
BEGIN:STANDARD
TZOFFSETFROM:-0500
TZOFFSETTO:-0600
TZNAME:CST
DTSTART:20231105T070000
END:STANDARD
BEGIN:DAYLIGHT
TZOFFSETFROM:-0600
TZOFFSETTO:-0500
TZNAME:CDT
DTSTART:20240310T080000
END:DAYLIGHT
BEGIN:STANDARD
TZOFFSETFROM:-0500
TZOFFSETTO:-0600
TZNAME:CST
DTSTART:20241103T070000
END:STANDARD
BEGIN:DAYLIGHT
TZOFFSETFROM:-0600
TZOFFSETTO:-0500
TZNAME:CDT
DTSTART:20250309T080000
END:DAYLIGHT
BEGIN:STANDARD
TZOFFSETFROM:-0500
TZOFFSETTO:-0600
TZNAME:CST
DTSTART:20251102T070000
END:STANDARD
END:VTIMEZONE
BEGIN:VEVENT
DTSTART;TZID=America/Chicago:20240217T063000
DTEND;TZID=America/Chicago:20240217T153000
DTSTAMP:20260421T074936
CREATED:20230919T203716Z
LAST-MODIFIED:20230919T203716Z
UID:10003934-1708151400-1708183800@koinoniachurch.info
SUMMARY:Tres Dias SETTD 33
DESCRIPTION:Training Meeting
URL:https://koinoniachurch.info/event/tres-dias-settd-33/2024-02-17/
CATEGORIES:Community
ATTACH;FMTTYPE=image/png:https://koinoniachurch.info/wp-content/uploads/2019/09/Screen-Shot-2020-03-06-at-2.16.44-PM.png
END:VEVENT
BEGIN:VEVENT
DTSTART;TZID=America/Chicago:20240217T150000
DTEND;TZID=America/Chicago:20240217T233000
DTSTAMP:20260421T074936
CREATED:20221111T171018Z
LAST-MODIFIED:20221111T194453Z
UID:10002430-1708182000-1708212600@koinoniachurch.info
SUMMARY:Church Maintenance
DESCRIPTION:The church is closed for cleaning.
URL:https://koinoniachurch.info/event/church-maintenance/2024-02-17/
CATEGORIES:Community,Koinonia
ATTACH;FMTTYPE=image/png:https://koinoniachurch.info/wp-content/uploads/2022/10/K.png
END:VEVENT
END:VCALENDAR