BEGIN:VCALENDAR
VERSION:2.0
PRODID:-//Koinonia Church - ECPv6.15.20//NONSGML v1.0//EN
CALSCALE:GREGORIAN
METHOD:PUBLISH
X-WR-CALNAME:Koinonia Church
X-ORIGINAL-URL:https://koinoniachurch.info
X-WR-CALDESC:Events for Koinonia Church
REFRESH-INTERVAL;VALUE=DURATION:PT1H
X-Robots-Tag:noindex
X-PUBLISHED-TTL:PT1H
BEGIN:VTIMEZONE
TZID:America/New_York
BEGIN:DAYLIGHT
TZOFFSETFROM:-0500
TZOFFSETTO:-0400
TZNAME:EDT
DTSTART:20230312T070000
END:DAYLIGHT
BEGIN:STANDARD
TZOFFSETFROM:-0400
TZOFFSETTO:-0500
TZNAME:EST
DTSTART:20231105T060000
END:STANDARD
BEGIN:DAYLIGHT
TZOFFSETFROM:-0500
TZOFFSETTO:-0400
TZNAME:EDT
DTSTART:20240310T070000
END:DAYLIGHT
BEGIN:STANDARD
TZOFFSETFROM:-0400
TZOFFSETTO:-0500
TZNAME:EST
DTSTART:20241103T060000
END:STANDARD
BEGIN:DAYLIGHT
TZOFFSETFROM:-0500
TZOFFSETTO:-0400
TZNAME:EDT
DTSTART:20250309T070000
END:DAYLIGHT
BEGIN:STANDARD
TZOFFSETFROM:-0400
TZOFFSETTO:-0500
TZNAME:EST
DTSTART:20251102T060000
END:STANDARD
END:VTIMEZONE
BEGIN:VTIMEZONE
TZID:America/Chicago
BEGIN:DAYLIGHT
TZOFFSETFROM:-0600
TZOFFSETTO:-0500
TZNAME:CDT
DTSTART:20230312T080000
END:DAYLIGHT
BEGIN:STANDARD
TZOFFSETFROM:-0500
TZOFFSETTO:-0600
TZNAME:CST
DTSTART:20231105T070000
END:STANDARD
BEGIN:DAYLIGHT
TZOFFSETFROM:-0600
TZOFFSETTO:-0500
TZNAME:CDT
DTSTART:20240310T080000
END:DAYLIGHT
BEGIN:STANDARD
TZOFFSETFROM:-0500
TZOFFSETTO:-0600
TZNAME:CST
DTSTART:20241103T070000
END:STANDARD
BEGIN:DAYLIGHT
TZOFFSETFROM:-0600
TZOFFSETTO:-0500
TZNAME:CDT
DTSTART:20250309T080000
END:DAYLIGHT
BEGIN:STANDARD
TZOFFSETFROM:-0500
TZOFFSETTO:-0600
TZNAME:CST
DTSTART:20251102T070000
END:STANDARD
END:VTIMEZONE
BEGIN:VTIMEZONE
TZID:America/Chicago
BEGIN:DAYLIGHT
TZOFFSETFROM:-0600
TZOFFSETTO:-0500
TZNAME:CDT
DTSTART:20230312T080000
END:DAYLIGHT
BEGIN:STANDARD
TZOFFSETFROM:-0500
TZOFFSETTO:-0600
TZNAME:CST
DTSTART:20231105T070000
END:STANDARD
BEGIN:DAYLIGHT
TZOFFSETFROM:-0600
TZOFFSETTO:-0500
TZNAME:CDT
DTSTART:20240310T080000
END:DAYLIGHT
BEGIN:STANDARD
TZOFFSETFROM:-0500
TZOFFSETTO:-0600
TZNAME:CST
DTSTART:20241103T070000
END:STANDARD
BEGIN:DAYLIGHT
TZOFFSETFROM:-0600
TZOFFSETTO:-0500
TZNAME:CDT
DTSTART:20250309T080000
END:DAYLIGHT
BEGIN:STANDARD
TZOFFSETFROM:-0500
TZOFFSETTO:-0600
TZNAME:CST
DTSTART:20251102T070000
END:STANDARD
END:VTIMEZONE
BEGIN:VEVENT
DTSTART;TZID=America/New_York:20240601T080000
DTEND;TZID=America/New_York:20240601T093000
DTSTAMP:20260425T163954
CREATED:20211204T204210Z
LAST-MODIFIED:20220125T205127Z
UID:10002567-1717228800-1717234200@koinoniachurch.info
SUMMARY:Men's Prayer Breakfast
DESCRIPTION:Men’s Prayer Breakfast
URL:https://koinoniachurch.info/event/mens-prayer-breakfast-20/2024-06-01/
LOCATION:Koinonia Church\, 11510 FM 1488\, Magnolia\, TX\, 77354\, United States
CATEGORIES:Koinonia
ATTACH;FMTTYPE=image/jpeg:https://koinoniachurch.info/wp-content/uploads/2018/06/mensprayerbreakfast.jpg
ORGANIZER;CN="Pastor Dan Woody":MAILTO:woodydad9396@gmail.com
END:VEVENT
BEGIN:VEVENT
DTSTART;TZID=America/Chicago:20240601T150000
DTEND;TZID=America/Chicago:20240601T233000
DTSTAMP:20260425T163954
CREATED:20221111T171018Z
LAST-MODIFIED:20221111T194453Z
UID:10002445-1717254000-1717284600@koinoniachurch.info
SUMMARY:Church Maintenance
DESCRIPTION:The church is closed for cleaning.
URL:https://koinoniachurch.info/event/church-maintenance/2024-06-01/
CATEGORIES:Community,Koinonia
ATTACH;FMTTYPE=image/png:https://koinoniachurch.info/wp-content/uploads/2022/10/K.png
END:VEVENT
BEGIN:VEVENT
DTSTART;TZID=America/Chicago:20240602T104500
DTEND;TZID=America/Chicago:20240602T133000
DTSTAMP:20260425T163954
CREATED:20190826T214836Z
LAST-MODIFIED:20221221T143254Z
UID:10001970-1717325100-1717335000@koinoniachurch.info
SUMMARY:Sunday Morning Worship Service -  In Person and Streaming.
DESCRIPTION:Join us for Sunday school and Worship! We hold a fellowship meal after the service and invite visitors to stay for our fellowship time.
URL:https://koinoniachurch.info/event/sunday-morning-worship-service/2024-06-02/
LOCATION:Koinonia Church\, 11510 FM 1488\, Magnolia\, TX\, 77354\, United States
CATEGORIES:Koinonia
ATTACH;FMTTYPE=image/png:https://koinoniachurch.info/wp-content/uploads/2019/08/worship.png
END:VEVENT
BEGIN:VEVENT
DTSTART;TZID=America/Chicago:20240605T183000
DTEND;TZID=America/Chicago:20240605T223000
DTSTAMP:20260425T163954
CREATED:20240314T043933Z
LAST-MODIFIED:20240903T135453Z
UID:10004619-1717612200-1717626600@koinoniachurch.info
SUMMARY:Odyssey Bible Class
DESCRIPTION:This class occurs from 7 p.m. – 10 p.m.
URL:https://koinoniachurch.info/event/odyssey-bible-class/2024-06-05/
CATEGORIES:Community,Koinonia,Odyssey
ATTACH;FMTTYPE=image/jpeg:https://koinoniachurch.info/wp-content/uploads/2024/07/odyssey-koinonia.jpg
END:VEVENT
BEGIN:VEVENT
DTSTART;TZID=America/Chicago:20240608T150000
DTEND;TZID=America/Chicago:20240608T233000
DTSTAMP:20260425T163954
CREATED:20221111T171018Z
LAST-MODIFIED:20221111T194453Z
UID:10002446-1717858800-1717889400@koinoniachurch.info
SUMMARY:Church Maintenance
DESCRIPTION:The church is closed for cleaning.
URL:https://koinoniachurch.info/event/church-maintenance/2024-06-08/
CATEGORIES:Community,Koinonia
ATTACH;FMTTYPE=image/png:https://koinoniachurch.info/wp-content/uploads/2022/10/K.png
END:VEVENT
BEGIN:VEVENT
DTSTART;TZID=America/Chicago:20240609T104500
DTEND;TZID=America/Chicago:20240609T133000
DTSTAMP:20260425T163954
CREATED:20190826T214836Z
LAST-MODIFIED:20221221T143254Z
UID:10001971-1717929900-1717939800@koinoniachurch.info
SUMMARY:Sunday Morning Worship Service -  In Person and Streaming.
DESCRIPTION:Join us for Sunday school and Worship! We hold a fellowship meal after the service and invite visitors to stay for our fellowship time.
URL:https://koinoniachurch.info/event/sunday-morning-worship-service/2024-06-09/
LOCATION:Koinonia Church\, 11510 FM 1488\, Magnolia\, TX\, 77354\, United States
CATEGORIES:Koinonia
ATTACH;FMTTYPE=image/png:https://koinoniachurch.info/wp-content/uploads/2019/08/worship.png
END:VEVENT
BEGIN:VEVENT
DTSTART;TZID=America/Chicago:20240612T183000
DTEND;TZID=America/Chicago:20240612T210000
DTSTAMP:20260425T163954
CREATED:20230802T012741Z
LAST-MODIFIED:20240206T235655Z
UID:10003600-1718217000-1718226000@koinoniachurch.info
SUMMARY:Tea & Titus 2
DESCRIPTION:Dear Ladies\, We invite you to a time of prayer\, bible study and fellowship. We normally meet on the second Wednesday of the month at 7pm\, but feel free to join us at 6:30pm for fellowship! You may bring a snack\, but you don’t have to. We just want you to come! \nPlease note\, the location can change on occasion. So check back for updates.
URL:https://koinoniachurch.info/event/tea-titus-2-2023-03-01-3/2024-06-12/
LOCATION:Koinonia Church\, 11510 FM 1488\, Magnolia\, TX\, 77354\, United States
CATEGORIES:Koinonia
ATTACH;FMTTYPE=image/jpeg:https://koinoniachurch.info/wp-content/uploads/2022/03/book-4598677_960_720.jpg
ORGANIZER;CN="Laurie Stevens":MAILTO:lastevens@comcast.net
END:VEVENT
BEGIN:VEVENT
DTSTART;TZID=America/Chicago:20240612T183000
DTEND;TZID=America/Chicago:20240612T223000
DTSTAMP:20260425T163954
CREATED:20240314T043933Z
LAST-MODIFIED:20240903T135453Z
UID:10004620-1718217000-1718231400@koinoniachurch.info
SUMMARY:Odyssey Bible Class
DESCRIPTION:This class occurs from 7 p.m. – 10 p.m.
URL:https://koinoniachurch.info/event/odyssey-bible-class/2024-06-12/
CATEGORIES:Community,Koinonia,Odyssey
ATTACH;FMTTYPE=image/jpeg:https://koinoniachurch.info/wp-content/uploads/2024/07/odyssey-koinonia.jpg
END:VEVENT
BEGIN:VEVENT
DTSTART;TZID=America/Chicago:20240615T150000
DTEND;TZID=America/Chicago:20240615T233000
DTSTAMP:20260425T163954
CREATED:20221111T171018Z
LAST-MODIFIED:20221111T194453Z
UID:10002447-1718463600-1718494200@koinoniachurch.info
SUMMARY:Church Maintenance
DESCRIPTION:The church is closed for cleaning.
URL:https://koinoniachurch.info/event/church-maintenance/2024-06-15/
CATEGORIES:Community,Koinonia
ATTACH;FMTTYPE=image/png:https://koinoniachurch.info/wp-content/uploads/2022/10/K.png
END:VEVENT
BEGIN:VEVENT
DTSTART;TZID=America/Chicago:20240616T104500
DTEND;TZID=America/Chicago:20240616T133000
DTSTAMP:20260425T163954
CREATED:20190826T214836Z
LAST-MODIFIED:20221221T143254Z
UID:10001972-1718534700-1718544600@koinoniachurch.info
SUMMARY:Sunday Morning Worship Service -  In Person and Streaming.
DESCRIPTION:Join us for Sunday school and Worship! We hold a fellowship meal after the service and invite visitors to stay for our fellowship time.
URL:https://koinoniachurch.info/event/sunday-morning-worship-service/2024-06-16/
LOCATION:Koinonia Church\, 11510 FM 1488\, Magnolia\, TX\, 77354\, United States
CATEGORIES:Koinonia
ATTACH;FMTTYPE=image/png:https://koinoniachurch.info/wp-content/uploads/2019/08/worship.png
END:VEVENT
BEGIN:VEVENT
DTSTART;TZID=America/Chicago:20240619T183000
DTEND;TZID=America/Chicago:20240619T223000
DTSTAMP:20260425T163954
CREATED:20240314T043933Z
LAST-MODIFIED:20240903T135453Z
UID:10004621-1718821800-1718836200@koinoniachurch.info
SUMMARY:Odyssey Bible Class
DESCRIPTION:This class occurs from 7 p.m. – 10 p.m.
URL:https://koinoniachurch.info/event/odyssey-bible-class/2024-06-19/
CATEGORIES:Community,Koinonia,Odyssey
ATTACH;FMTTYPE=image/jpeg:https://koinoniachurch.info/wp-content/uploads/2024/07/odyssey-koinonia.jpg
END:VEVENT
BEGIN:VEVENT
DTSTART;TZID=America/Chicago:20240622T150000
DTEND;TZID=America/Chicago:20240622T233000
DTSTAMP:20260425T163954
CREATED:20221111T171018Z
LAST-MODIFIED:20221111T194453Z
UID:10002448-1719068400-1719099000@koinoniachurch.info
SUMMARY:Church Maintenance
DESCRIPTION:The church is closed for cleaning.
URL:https://koinoniachurch.info/event/church-maintenance/2024-06-22/
CATEGORIES:Community,Koinonia
ATTACH;FMTTYPE=image/png:https://koinoniachurch.info/wp-content/uploads/2022/10/K.png
END:VEVENT
BEGIN:VEVENT
DTSTART;TZID=America/Chicago:20240623T104500
DTEND;TZID=America/Chicago:20240623T133000
DTSTAMP:20260425T163954
CREATED:20190826T214836Z
LAST-MODIFIED:20221221T143254Z
UID:10001973-1719139500-1719149400@koinoniachurch.info
SUMMARY:Sunday Morning Worship Service -  In Person and Streaming.
DESCRIPTION:Join us for Sunday school and Worship! We hold a fellowship meal after the service and invite visitors to stay for our fellowship time.
URL:https://koinoniachurch.info/event/sunday-morning-worship-service/2024-06-23/
LOCATION:Koinonia Church\, 11510 FM 1488\, Magnolia\, TX\, 77354\, United States
CATEGORIES:Koinonia
ATTACH;FMTTYPE=image/png:https://koinoniachurch.info/wp-content/uploads/2019/08/worship.png
END:VEVENT
BEGIN:VEVENT
DTSTART;TZID=America/Chicago:20240626T183000
DTEND;TZID=America/Chicago:20240626T223000
DTSTAMP:20260425T163954
CREATED:20240314T043933Z
LAST-MODIFIED:20240903T135453Z
UID:10004622-1719426600-1719441000@koinoniachurch.info
SUMMARY:Odyssey Bible Class
DESCRIPTION:This class occurs from 7 p.m. – 10 p.m.
URL:https://koinoniachurch.info/event/odyssey-bible-class/2024-06-26/
CATEGORIES:Community,Koinonia,Odyssey
ATTACH;FMTTYPE=image/jpeg:https://koinoniachurch.info/wp-content/uploads/2024/07/odyssey-koinonia.jpg
END:VEVENT
BEGIN:VEVENT
DTSTART;TZID=America/Chicago:20240629T150000
DTEND;TZID=America/Chicago:20240629T233000
DTSTAMP:20260425T163954
CREATED:20221111T171018Z
LAST-MODIFIED:20221111T194453Z
UID:10002449-1719673200-1719703800@koinoniachurch.info
SUMMARY:Church Maintenance
DESCRIPTION:The church is closed for cleaning.
URL:https://koinoniachurch.info/event/church-maintenance/2024-06-29/
CATEGORIES:Community,Koinonia
ATTACH;FMTTYPE=image/png:https://koinoniachurch.info/wp-content/uploads/2022/10/K.png
END:VEVENT
BEGIN:VEVENT
DTSTART;TZID=America/Chicago:20240630T104500
DTEND;TZID=America/Chicago:20240630T133000
DTSTAMP:20260425T163954
CREATED:20190826T214836Z
LAST-MODIFIED:20221221T143254Z
UID:10001974-1719744300-1719754200@koinoniachurch.info
SUMMARY:Sunday Morning Worship Service -  In Person and Streaming.
DESCRIPTION:Join us for Sunday school and Worship! We hold a fellowship meal after the service and invite visitors to stay for our fellowship time.
URL:https://koinoniachurch.info/event/sunday-morning-worship-service/2024-06-30/
LOCATION:Koinonia Church\, 11510 FM 1488\, Magnolia\, TX\, 77354\, United States
CATEGORIES:Koinonia
ATTACH;FMTTYPE=image/png:https://koinoniachurch.info/wp-content/uploads/2019/08/worship.png
END:VEVENT
END:VCALENDAR