BEGIN:VCALENDAR
VERSION:2.0
PRODID:-//Koinonia Church - ECPv6.15.20//NONSGML v1.0//EN
CALSCALE:GREGORIAN
METHOD:PUBLISH
X-WR-CALNAME:Koinonia Church
X-ORIGINAL-URL:https://koinoniachurch.info
X-WR-CALDESC:Events for Koinonia Church
REFRESH-INTERVAL;VALUE=DURATION:PT1H
X-Robots-Tag:noindex
X-PUBLISHED-TTL:PT1H
BEGIN:VTIMEZONE
TZID:America/Chicago
BEGIN:DAYLIGHT
TZOFFSETFROM:-0600
TZOFFSETTO:-0500
TZNAME:CDT
DTSTART:20230312T080000
END:DAYLIGHT
BEGIN:STANDARD
TZOFFSETFROM:-0500
TZOFFSETTO:-0600
TZNAME:CST
DTSTART:20231105T070000
END:STANDARD
BEGIN:DAYLIGHT
TZOFFSETFROM:-0600
TZOFFSETTO:-0500
TZNAME:CDT
DTSTART:20240310T080000
END:DAYLIGHT
BEGIN:STANDARD
TZOFFSETFROM:-0500
TZOFFSETTO:-0600
TZNAME:CST
DTSTART:20241103T070000
END:STANDARD
BEGIN:DAYLIGHT
TZOFFSETFROM:-0600
TZOFFSETTO:-0500
TZNAME:CDT
DTSTART:20250309T080000
END:DAYLIGHT
BEGIN:STANDARD
TZOFFSETFROM:-0500
TZOFFSETTO:-0600
TZNAME:CST
DTSTART:20251102T070000
END:STANDARD
END:VTIMEZONE
BEGIN:VTIMEZONE
TZID:America/Chicago
BEGIN:DAYLIGHT
TZOFFSETFROM:-0600
TZOFFSETTO:-0500
TZNAME:CDT
DTSTART:20230312T080000
END:DAYLIGHT
BEGIN:STANDARD
TZOFFSETFROM:-0500
TZOFFSETTO:-0600
TZNAME:CST
DTSTART:20231105T070000
END:STANDARD
BEGIN:DAYLIGHT
TZOFFSETFROM:-0600
TZOFFSETTO:-0500
TZNAME:CDT
DTSTART:20240310T080000
END:DAYLIGHT
BEGIN:STANDARD
TZOFFSETFROM:-0500
TZOFFSETTO:-0600
TZNAME:CST
DTSTART:20241103T070000
END:STANDARD
BEGIN:DAYLIGHT
TZOFFSETFROM:-0600
TZOFFSETTO:-0500
TZNAME:CDT
DTSTART:20250309T080000
END:DAYLIGHT
BEGIN:STANDARD
TZOFFSETFROM:-0500
TZOFFSETTO:-0600
TZNAME:CST
DTSTART:20251102T070000
END:STANDARD
END:VTIMEZONE
BEGIN:VTIMEZONE
TZID:America/New_York
BEGIN:DAYLIGHT
TZOFFSETFROM:-0500
TZOFFSETTO:-0400
TZNAME:EDT
DTSTART:20230312T070000
END:DAYLIGHT
BEGIN:STANDARD
TZOFFSETFROM:-0400
TZOFFSETTO:-0500
TZNAME:EST
DTSTART:20231105T060000
END:STANDARD
BEGIN:DAYLIGHT
TZOFFSETFROM:-0500
TZOFFSETTO:-0400
TZNAME:EDT
DTSTART:20240310T070000
END:DAYLIGHT
BEGIN:STANDARD
TZOFFSETFROM:-0400
TZOFFSETTO:-0500
TZNAME:EST
DTSTART:20241103T060000
END:STANDARD
BEGIN:DAYLIGHT
TZOFFSETFROM:-0500
TZOFFSETTO:-0400
TZNAME:EDT
DTSTART:20250309T070000
END:DAYLIGHT
BEGIN:STANDARD
TZOFFSETFROM:-0400
TZOFFSETTO:-0500
TZNAME:EST
DTSTART:20251102T060000
END:STANDARD
END:VTIMEZONE
BEGIN:VEVENT
DTSTART;TZID=America/Chicago:20240721T104500
DTEND;TZID=America/Chicago:20240721T133000
DTSTAMP:20260425T180516
CREATED:20190826T214836Z
LAST-MODIFIED:20221221T143254Z
UID:10001977-1721558700-1721568600@koinoniachurch.info
SUMMARY:Sunday Morning Worship Service -  In Person and Streaming.
DESCRIPTION:Join us for Sunday school and Worship! We hold a fellowship meal after the service and invite visitors to stay for our fellowship time.
URL:https://koinoniachurch.info/event/sunday-morning-worship-service/2024-07-21/
LOCATION:Koinonia Church\, 11510 FM 1488\, Magnolia\, TX\, 77354\, United States
CATEGORIES:Koinonia
ATTACH;FMTTYPE=image/png:https://koinoniachurch.info/wp-content/uploads/2019/08/worship.png
END:VEVENT
BEGIN:VEVENT
DTSTART;TZID=America/Chicago:20240724T183000
DTEND;TZID=America/Chicago:20240724T223000
DTSTAMP:20260425T180516
CREATED:20240314T043933Z
LAST-MODIFIED:20240903T135453Z
UID:10004626-1721845800-1721860200@koinoniachurch.info
SUMMARY:Odyssey Bible Class
DESCRIPTION:This class occurs from 7 p.m. – 10 p.m.
URL:https://koinoniachurch.info/event/odyssey-bible-class/2024-07-24/
CATEGORIES:Community,Koinonia,Odyssey
ATTACH;FMTTYPE=image/jpeg:https://koinoniachurch.info/wp-content/uploads/2024/07/odyssey-koinonia.jpg
END:VEVENT
BEGIN:VEVENT
DTSTART;TZID=America/Chicago:20240727T150000
DTEND;TZID=America/Chicago:20240727T233000
DTSTAMP:20260425T180516
CREATED:20221111T171018Z
LAST-MODIFIED:20221111T194453Z
UID:10002453-1722092400-1722123000@koinoniachurch.info
SUMMARY:Church Maintenance
DESCRIPTION:The church is closed for cleaning.
URL:https://koinoniachurch.info/event/church-maintenance/2024-07-27/
CATEGORIES:Community,Koinonia
ATTACH;FMTTYPE=image/png:https://koinoniachurch.info/wp-content/uploads/2022/10/K.png
END:VEVENT
BEGIN:VEVENT
DTSTART;TZID=America/Chicago:20240728T104500
DTEND;TZID=America/Chicago:20240728T133000
DTSTAMP:20260425T180516
CREATED:20190826T214836Z
LAST-MODIFIED:20221221T143254Z
UID:10001978-1722163500-1722173400@koinoniachurch.info
SUMMARY:Sunday Morning Worship Service -  In Person and Streaming.
DESCRIPTION:Join us for Sunday school and Worship! We hold a fellowship meal after the service and invite visitors to stay for our fellowship time.
URL:https://koinoniachurch.info/event/sunday-morning-worship-service/2024-07-28/
LOCATION:Koinonia Church\, 11510 FM 1488\, Magnolia\, TX\, 77354\, United States
CATEGORIES:Koinonia
ATTACH;FMTTYPE=image/png:https://koinoniachurch.info/wp-content/uploads/2019/08/worship.png
END:VEVENT
BEGIN:VEVENT
DTSTART;TZID=America/Chicago:20240731T183000
DTEND;TZID=America/Chicago:20240731T223000
DTSTAMP:20260425T180516
CREATED:20240314T043933Z
LAST-MODIFIED:20240903T135453Z
UID:10004627-1722450600-1722465000@koinoniachurch.info
SUMMARY:Odyssey Bible Class
DESCRIPTION:This class occurs from 7 p.m. – 10 p.m.
URL:https://koinoniachurch.info/event/odyssey-bible-class/2024-07-31/
CATEGORIES:Community,Koinonia,Odyssey
ATTACH;FMTTYPE=image/jpeg:https://koinoniachurch.info/wp-content/uploads/2024/07/odyssey-koinonia.jpg
END:VEVENT
BEGIN:VEVENT
DTSTART;TZID=America/New_York:20240803T080000
DTEND;TZID=America/New_York:20240803T093000
DTSTAMP:20260425T180516
CREATED:20211204T204210Z
LAST-MODIFIED:20220125T205127Z
UID:10002569-1722672000-1722677400@koinoniachurch.info
SUMMARY:Men's Prayer Breakfast
DESCRIPTION:Men’s Prayer Breakfast
URL:https://koinoniachurch.info/event/mens-prayer-breakfast-20/2024-08-03/
LOCATION:Koinonia Church\, 11510 FM 1488\, Magnolia\, TX\, 77354\, United States
CATEGORIES:Koinonia
ATTACH;FMTTYPE=image/jpeg:https://koinoniachurch.info/wp-content/uploads/2018/06/mensprayerbreakfast.jpg
ORGANIZER;CN="Pastor Dan Woody":MAILTO:woodydad9396@gmail.com
END:VEVENT
BEGIN:VEVENT
DTSTART;TZID=America/Chicago:20240803T083000
DTEND;TZID=America/Chicago:20240803T123000
DTSTAMP:20260425T180516
CREATED:20230803T212002Z
LAST-MODIFIED:20240515T033811Z
UID:10002830-1722673800-1722688200@koinoniachurch.info
SUMMARY:Homeschooling 101 Workshop
DESCRIPTION:If you are new to homeschooling\, thinking about homeschooling\, or have questions about homeschooling then this seminar is for you! \nThis workshop is form 9 a.m. – Noon and is FREE. \nSession Topics:\nTexas Homeschooling Laws\nHomeschooling Styles\nChoosing Curriculum\nGetting Started\nTeaching Multiple Ages\nHigh School\nExtracurricular Activities \nLink to register:\nhttps://docs.google.com/forms/d/e/1FAIpQLSfBVYDh1AVy1aEPvZxuNbcCPis_mira2k1wUYx53evzqP2erA/viewform?usp=sf_link
URL:https://koinoniachurch.info/event/homeschooling-101-workshop-2-2/2024-08-03/
CATEGORIES:Community,Koinonia
ATTACH;FMTTYPE=image/png:https://koinoniachurch.info/wp-content/uploads/2022/10/K.png
END:VEVENT
BEGIN:VEVENT
DTSTART;TZID=America/Chicago:20240803T150000
DTEND;TZID=America/Chicago:20240803T233000
DTSTAMP:20260425T180516
CREATED:20221111T171018Z
LAST-MODIFIED:20221111T194453Z
UID:10002454-1722697200-1722727800@koinoniachurch.info
SUMMARY:Church Maintenance
DESCRIPTION:The church is closed for cleaning.
URL:https://koinoniachurch.info/event/church-maintenance/2024-08-03/
CATEGORIES:Community,Koinonia
ATTACH;FMTTYPE=image/png:https://koinoniachurch.info/wp-content/uploads/2022/10/K.png
END:VEVENT
BEGIN:VEVENT
DTSTART;TZID=America/Chicago:20240804T104500
DTEND;TZID=America/Chicago:20240804T133000
DTSTAMP:20260425T180516
CREATED:20190826T214836Z
LAST-MODIFIED:20221221T143254Z
UID:10001979-1722768300-1722778200@koinoniachurch.info
SUMMARY:Sunday Morning Worship Service -  In Person and Streaming.
DESCRIPTION:Join us for Sunday school and Worship! We hold a fellowship meal after the service and invite visitors to stay for our fellowship time.
URL:https://koinoniachurch.info/event/sunday-morning-worship-service/2024-08-04/
LOCATION:Koinonia Church\, 11510 FM 1488\, Magnolia\, TX\, 77354\, United States
CATEGORIES:Koinonia
ATTACH;FMTTYPE=image/png:https://koinoniachurch.info/wp-content/uploads/2019/08/worship.png
END:VEVENT
BEGIN:VEVENT
DTSTART;TZID=America/Chicago:20240807T183000
DTEND;TZID=America/Chicago:20240807T223000
DTSTAMP:20260425T180516
CREATED:20240314T043933Z
LAST-MODIFIED:20240903T135453Z
UID:10004628-1723055400-1723069800@koinoniachurch.info
SUMMARY:Odyssey Bible Class
DESCRIPTION:This class occurs from 7 p.m. – 10 p.m.
URL:https://koinoniachurch.info/event/odyssey-bible-class/2024-08-07/
CATEGORIES:Community,Koinonia,Odyssey
ATTACH;FMTTYPE=image/jpeg:https://koinoniachurch.info/wp-content/uploads/2024/07/odyssey-koinonia.jpg
END:VEVENT
BEGIN:VEVENT
DTSTART;TZID=America/Chicago:20240810T150000
DTEND;TZID=America/Chicago:20240810T233000
DTSTAMP:20260425T180516
CREATED:20221111T171018Z
LAST-MODIFIED:20221111T194453Z
UID:10002455-1723302000-1723332600@koinoniachurch.info
SUMMARY:Church Maintenance
DESCRIPTION:The church is closed for cleaning.
URL:https://koinoniachurch.info/event/church-maintenance/2024-08-10/
CATEGORIES:Community,Koinonia
ATTACH;FMTTYPE=image/png:https://koinoniachurch.info/wp-content/uploads/2022/10/K.png
END:VEVENT
BEGIN:VEVENT
DTSTART;TZID=America/Chicago:20240811T104500
DTEND;TZID=America/Chicago:20240811T133000
DTSTAMP:20260425T180516
CREATED:20190826T214836Z
LAST-MODIFIED:20221221T143254Z
UID:10001980-1723373100-1723383000@koinoniachurch.info
SUMMARY:Sunday Morning Worship Service -  In Person and Streaming.
DESCRIPTION:Join us for Sunday school and Worship! We hold a fellowship meal after the service and invite visitors to stay for our fellowship time.
URL:https://koinoniachurch.info/event/sunday-morning-worship-service/2024-08-11/
LOCATION:Koinonia Church\, 11510 FM 1488\, Magnolia\, TX\, 77354\, United States
CATEGORIES:Koinonia
ATTACH;FMTTYPE=image/png:https://koinoniachurch.info/wp-content/uploads/2019/08/worship.png
END:VEVENT
BEGIN:VEVENT
DTSTART;TZID=America/Chicago:20240814T183000
DTEND;TZID=America/Chicago:20240814T210000
DTSTAMP:20260425T180516
CREATED:20230802T012741Z
LAST-MODIFIED:20240206T235655Z
UID:10003602-1723660200-1723669200@koinoniachurch.info
SUMMARY:Tea & Titus 2
DESCRIPTION:Dear Ladies\, We invite you to a time of prayer\, bible study and fellowship. We normally meet on the second Wednesday of the month at 7pm\, but feel free to join us at 6:30pm for fellowship! You may bring a snack\, but you don’t have to. We just want you to come! \nPlease note\, the location can change on occasion. So check back for updates.
URL:https://koinoniachurch.info/event/tea-titus-2-2023-03-01-3/2024-08-14/
LOCATION:Koinonia Church\, 11510 FM 1488\, Magnolia\, TX\, 77354\, United States
CATEGORIES:Koinonia
ATTACH;FMTTYPE=image/jpeg:https://koinoniachurch.info/wp-content/uploads/2022/03/book-4598677_960_720.jpg
ORGANIZER;CN="Laurie Stevens":MAILTO:lastevens@comcast.net
END:VEVENT
BEGIN:VEVENT
DTSTART;TZID=America/Chicago:20240814T183000
DTEND;TZID=America/Chicago:20240814T223000
DTSTAMP:20260425T180516
CREATED:20240314T043933Z
LAST-MODIFIED:20240903T135453Z
UID:10004629-1723660200-1723674600@koinoniachurch.info
SUMMARY:Odyssey Bible Class
DESCRIPTION:This class occurs from 7 p.m. – 10 p.m.
URL:https://koinoniachurch.info/event/odyssey-bible-class/2024-08-14/
CATEGORIES:Community,Koinonia,Odyssey
ATTACH;FMTTYPE=image/jpeg:https://koinoniachurch.info/wp-content/uploads/2024/07/odyssey-koinonia.jpg
END:VEVENT
BEGIN:VEVENT
DTSTART;TZID=America/Chicago:20240817T150000
DTEND;TZID=America/Chicago:20240817T233000
DTSTAMP:20260425T180516
CREATED:20221111T171018Z
LAST-MODIFIED:20221111T194453Z
UID:10002456-1723906800-1723937400@koinoniachurch.info
SUMMARY:Church Maintenance
DESCRIPTION:The church is closed for cleaning.
URL:https://koinoniachurch.info/event/church-maintenance/2024-08-17/
CATEGORIES:Community,Koinonia
ATTACH;FMTTYPE=image/png:https://koinoniachurch.info/wp-content/uploads/2022/10/K.png
END:VEVENT
BEGIN:VEVENT
DTSTART;TZID=America/Chicago:20240818T104500
DTEND;TZID=America/Chicago:20240818T133000
DTSTAMP:20260425T180516
CREATED:20190826T214836Z
LAST-MODIFIED:20221221T143254Z
UID:10001981-1723977900-1723987800@koinoniachurch.info
SUMMARY:Sunday Morning Worship Service -  In Person and Streaming.
DESCRIPTION:Join us for Sunday school and Worship! We hold a fellowship meal after the service and invite visitors to stay for our fellowship time.
URL:https://koinoniachurch.info/event/sunday-morning-worship-service/2024-08-18/
LOCATION:Koinonia Church\, 11510 FM 1488\, Magnolia\, TX\, 77354\, United States
CATEGORIES:Koinonia
ATTACH;FMTTYPE=image/png:https://koinoniachurch.info/wp-content/uploads/2019/08/worship.png
END:VEVENT
BEGIN:VEVENT
DTSTART;TZID=America/Chicago:20240821T183000
DTEND;TZID=America/Chicago:20240821T223000
DTSTAMP:20260425T180516
CREATED:20240314T043933Z
LAST-MODIFIED:20240903T135453Z
UID:10004630-1724265000-1724279400@koinoniachurch.info
SUMMARY:Odyssey Bible Class
DESCRIPTION:This class occurs from 7 p.m. – 10 p.m.
URL:https://koinoniachurch.info/event/odyssey-bible-class/2024-08-21/
CATEGORIES:Community,Koinonia,Odyssey
ATTACH;FMTTYPE=image/jpeg:https://koinoniachurch.info/wp-content/uploads/2024/07/odyssey-koinonia.jpg
END:VEVENT
BEGIN:VEVENT
DTSTART;TZID=America/Chicago:20240824T150000
DTEND;TZID=America/Chicago:20240824T233000
DTSTAMP:20260425T180516
CREATED:20221111T171018Z
LAST-MODIFIED:20221111T194453Z
UID:10002457-1724511600-1724542200@koinoniachurch.info
SUMMARY:Church Maintenance
DESCRIPTION:The church is closed for cleaning.
URL:https://koinoniachurch.info/event/church-maintenance/2024-08-24/
CATEGORIES:Community,Koinonia
ATTACH;FMTTYPE=image/png:https://koinoniachurch.info/wp-content/uploads/2022/10/K.png
END:VEVENT
BEGIN:VEVENT
DTSTART;TZID=America/Chicago:20240825T104500
DTEND;TZID=America/Chicago:20240825T133000
DTSTAMP:20260425T180516
CREATED:20190826T214836Z
LAST-MODIFIED:20221221T143254Z
UID:10001982-1724582700-1724592600@koinoniachurch.info
SUMMARY:Sunday Morning Worship Service -  In Person and Streaming.
DESCRIPTION:Join us for Sunday school and Worship! We hold a fellowship meal after the service and invite visitors to stay for our fellowship time.
URL:https://koinoniachurch.info/event/sunday-morning-worship-service/2024-08-25/
LOCATION:Koinonia Church\, 11510 FM 1488\, Magnolia\, TX\, 77354\, United States
CATEGORIES:Koinonia
ATTACH;FMTTYPE=image/png:https://koinoniachurch.info/wp-content/uploads/2019/08/worship.png
END:VEVENT
BEGIN:VEVENT
DTSTART;TZID=America/Chicago:20240828T183000
DTEND;TZID=America/Chicago:20240828T223000
DTSTAMP:20260425T180516
CREATED:20240314T043933Z
LAST-MODIFIED:20240903T135453Z
UID:10004631-1724869800-1724884200@koinoniachurch.info
SUMMARY:Odyssey Bible Class
DESCRIPTION:This class occurs from 7 p.m. – 10 p.m.
URL:https://koinoniachurch.info/event/odyssey-bible-class/2024-08-28/
CATEGORIES:Community,Koinonia,Odyssey
ATTACH;FMTTYPE=image/jpeg:https://koinoniachurch.info/wp-content/uploads/2024/07/odyssey-koinonia.jpg
END:VEVENT
BEGIN:VEVENT
DTSTART;TZID=America/Chicago:20240831T150000
DTEND;TZID=America/Chicago:20240831T233000
DTSTAMP:20260425T180516
CREATED:20221111T171018Z
LAST-MODIFIED:20221111T194453Z
UID:10002458-1725116400-1725147000@koinoniachurch.info
SUMMARY:Church Maintenance
DESCRIPTION:The church is closed for cleaning.
URL:https://koinoniachurch.info/event/church-maintenance/2024-08-31/
CATEGORIES:Community,Koinonia
ATTACH;FMTTYPE=image/png:https://koinoniachurch.info/wp-content/uploads/2022/10/K.png
END:VEVENT
BEGIN:VEVENT
DTSTART;TZID=America/Chicago:20240831T170000
DTEND;TZID=America/Chicago:20240831T233000
DTSTAMP:20260425T180516
CREATED:20240810T235144Z
LAST-MODIFIED:20240810T235144Z
UID:10004985-1725123600-1725147000@koinoniachurch.info
SUMMARY:Lachney Event
DESCRIPTION:Private Lachney Event
URL:https://koinoniachurch.info/event/lachney-event/
CATEGORIES:Community,Koinonia
END:VEVENT
BEGIN:VEVENT
DTSTART;TZID=America/Chicago:20240901T104500
DTEND;TZID=America/Chicago:20240901T133000
DTSTAMP:20260425T180516
CREATED:20190826T214836Z
LAST-MODIFIED:20221221T143254Z
UID:10001983-1725187500-1725197400@koinoniachurch.info
SUMMARY:Sunday Morning Worship Service -  In Person and Streaming.
DESCRIPTION:Join us for Sunday school and Worship! We hold a fellowship meal after the service and invite visitors to stay for our fellowship time.
URL:https://koinoniachurch.info/event/sunday-morning-worship-service/2024-09-01/
LOCATION:Koinonia Church\, 11510 FM 1488\, Magnolia\, TX\, 77354\, United States
CATEGORIES:Koinonia
ATTACH;FMTTYPE=image/png:https://koinoniachurch.info/wp-content/uploads/2019/08/worship.png
END:VEVENT
BEGIN:VEVENT
DTSTART;TZID=America/Chicago:20240902T130000
DTEND;TZID=America/Chicago:20240902T170000
DTSTAMP:20260425T180516
CREATED:20221201T143856Z
LAST-MODIFIED:20230724T155606Z
UID:10003540-1725282000-1725296400@koinoniachurch.info
SUMMARY:Ice Cream Social
DESCRIPTION:Celebrate Labor Day with our Koinonia Church family and beat the heat with some delicious ice cream during a little friendly ice cream competition.  Those participating in the ice cream competition will need to bring 3 quarts of their homemade ice cream creation to provide samples for judging by our church family.  After the winner is announced\, we’ll enjoy the rest of the ice cream and have a time of fellowship!
URL:https://koinoniachurch.info/event/reformation-festival-4/2024-09-02/
CATEGORIES:Community,Koinonia
ATTACH;FMTTYPE=image/png:https://koinoniachurch.info/wp-content/uploads/2022/10/K.png
END:VEVENT
BEGIN:VEVENT
DTSTART;TZID=America/Chicago:20240904T183000
DTEND;TZID=America/Chicago:20240904T223000
DTSTAMP:20260425T180516
CREATED:20240314T043933Z
LAST-MODIFIED:20240903T135453Z
UID:10004632-1725474600-1725489000@koinoniachurch.info
SUMMARY:Odyssey Bible Class
DESCRIPTION:This class occurs from 7 p.m. – 10 p.m.
URL:https://koinoniachurch.info/event/odyssey-bible-class/2024-09-04/
CATEGORIES:Community,Koinonia,Odyssey
ATTACH;FMTTYPE=image/jpeg:https://koinoniachurch.info/wp-content/uploads/2024/07/odyssey-koinonia.jpg
END:VEVENT
BEGIN:VEVENT
DTSTART;TZID=America/New_York:20240907T080000
DTEND;TZID=America/New_York:20240907T093000
DTSTAMP:20260425T180516
CREATED:20211204T204210Z
LAST-MODIFIED:20220125T205127Z
UID:10002570-1725696000-1725701400@koinoniachurch.info
SUMMARY:Men's Prayer Breakfast
DESCRIPTION:Men’s Prayer Breakfast
URL:https://koinoniachurch.info/event/mens-prayer-breakfast-20/2024-09-07/
LOCATION:Koinonia Church\, 11510 FM 1488\, Magnolia\, TX\, 77354\, United States
CATEGORIES:Koinonia
ATTACH;FMTTYPE=image/jpeg:https://koinoniachurch.info/wp-content/uploads/2018/06/mensprayerbreakfast.jpg
ORGANIZER;CN="Pastor Dan Woody":MAILTO:woodydad9396@gmail.com
END:VEVENT
BEGIN:VEVENT
DTSTART;TZID=America/Chicago:20240907T150000
DTEND;TZID=America/Chicago:20240907T233000
DTSTAMP:20260425T180516
CREATED:20221111T171018Z
LAST-MODIFIED:20221111T194453Z
UID:10002459-1725721200-1725751800@koinoniachurch.info
SUMMARY:Church Maintenance
DESCRIPTION:The church is closed for cleaning.
URL:https://koinoniachurch.info/event/church-maintenance/2024-09-07/
CATEGORIES:Community,Koinonia
ATTACH;FMTTYPE=image/png:https://koinoniachurch.info/wp-content/uploads/2022/10/K.png
END:VEVENT
BEGIN:VEVENT
DTSTART;TZID=America/Chicago:20240908T104500
DTEND;TZID=America/Chicago:20240908T133000
DTSTAMP:20260425T180516
CREATED:20190826T214836Z
LAST-MODIFIED:20221221T143254Z
UID:10001984-1725792300-1725802200@koinoniachurch.info
SUMMARY:Sunday Morning Worship Service -  In Person and Streaming.
DESCRIPTION:Join us for Sunday school and Worship! We hold a fellowship meal after the service and invite visitors to stay for our fellowship time.
URL:https://koinoniachurch.info/event/sunday-morning-worship-service/2024-09-08/
LOCATION:Koinonia Church\, 11510 FM 1488\, Magnolia\, TX\, 77354\, United States
CATEGORIES:Koinonia
ATTACH;FMTTYPE=image/png:https://koinoniachurch.info/wp-content/uploads/2019/08/worship.png
END:VEVENT
BEGIN:VEVENT
DTSTART;TZID=America/Chicago:20240911T183000
DTEND;TZID=America/Chicago:20240911T210000
DTSTAMP:20260425T180516
CREATED:20230802T012741Z
LAST-MODIFIED:20240206T235655Z
UID:10003603-1726079400-1726088400@koinoniachurch.info
SUMMARY:Tea & Titus 2
DESCRIPTION:Dear Ladies\, We invite you to a time of prayer\, bible study and fellowship. We normally meet on the second Wednesday of the month at 7pm\, but feel free to join us at 6:30pm for fellowship! You may bring a snack\, but you don’t have to. We just want you to come! \nPlease note\, the location can change on occasion. So check back for updates.
URL:https://koinoniachurch.info/event/tea-titus-2-2023-03-01-3/2024-09-11/
LOCATION:Koinonia Church\, 11510 FM 1488\, Magnolia\, TX\, 77354\, United States
CATEGORIES:Koinonia
ATTACH;FMTTYPE=image/jpeg:https://koinoniachurch.info/wp-content/uploads/2022/03/book-4598677_960_720.jpg
ORGANIZER;CN="Laurie Stevens":MAILTO:lastevens@comcast.net
END:VEVENT
BEGIN:VEVENT
DTSTART;TZID=America/Chicago:20240911T183000
DTEND;TZID=America/Chicago:20240911T223000
DTSTAMP:20260425T180516
CREATED:20240314T043933Z
LAST-MODIFIED:20240903T135453Z
UID:10004633-1726079400-1726093800@koinoniachurch.info
SUMMARY:Odyssey Bible Class
DESCRIPTION:This class occurs from 7 p.m. – 10 p.m.
URL:https://koinoniachurch.info/event/odyssey-bible-class/2024-09-11/
CATEGORIES:Community,Koinonia,Odyssey
ATTACH;FMTTYPE=image/jpeg:https://koinoniachurch.info/wp-content/uploads/2024/07/odyssey-koinonia.jpg
END:VEVENT
END:VCALENDAR