BEGIN:VCALENDAR
VERSION:2.0
PRODID:-//Koinonia Church - ECPv6.15.20//NONSGML v1.0//EN
CALSCALE:GREGORIAN
METHOD:PUBLISH
X-WR-CALNAME:Koinonia Church
X-ORIGINAL-URL:https://koinoniachurch.info
X-WR-CALDESC:Events for Koinonia Church
REFRESH-INTERVAL;VALUE=DURATION:PT1H
X-Robots-Tag:noindex
X-PUBLISHED-TTL:PT1H
BEGIN:VTIMEZONE
TZID:America/Chicago
BEGIN:DAYLIGHT
TZOFFSETFROM:-0600
TZOFFSETTO:-0500
TZNAME:CDT
DTSTART:20290311T080000
END:DAYLIGHT
BEGIN:STANDARD
TZOFFSETFROM:-0500
TZOFFSETTO:-0600
TZNAME:CST
DTSTART:20291104T070000
END:STANDARD
BEGIN:DAYLIGHT
TZOFFSETFROM:-0600
TZOFFSETTO:-0500
TZNAME:CDT
DTSTART:20300310T080000
END:DAYLIGHT
BEGIN:STANDARD
TZOFFSETFROM:-0500
TZOFFSETTO:-0600
TZNAME:CST
DTSTART:20301103T070000
END:STANDARD
BEGIN:DAYLIGHT
TZOFFSETFROM:-0600
TZOFFSETTO:-0500
TZNAME:CDT
DTSTART:20310309T080000
END:DAYLIGHT
BEGIN:STANDARD
TZOFFSETFROM:-0500
TZOFFSETTO:-0600
TZNAME:CST
DTSTART:20311102T070000
END:STANDARD
BEGIN:DAYLIGHT
TZOFFSETFROM:-0600
TZOFFSETTO:-0500
TZNAME:CDT
DTSTART:20320314T080000
END:DAYLIGHT
BEGIN:STANDARD
TZOFFSETFROM:-0500
TZOFFSETTO:-0600
TZNAME:CST
DTSTART:20321107T070000
END:STANDARD
END:VTIMEZONE
BEGIN:VEVENT
DTSTART;TZID=America/Chicago:20301004T100000
DTEND;TZID=America/Chicago:20301004T140000
DTSTAMP:20260421T044616
CREATED:20260320T013614Z
LAST-MODIFIED:20260320T021412Z
UID:10007539-1917338400-1917352800@koinoniachurch.info
SUMMARY:Crafting Day
DESCRIPTION:
URL:https://koinoniachurch.info/event/crafting-day/2030-10-04/
CATEGORIES:Koinonia
ATTACH;FMTTYPE=image/jpeg:https://koinoniachurch.info/wp-content/uploads/2025/07/crafting.jpg
END:VEVENT
BEGIN:VEVENT
DTSTART;TZID=America/Chicago:20301011T100000
DTEND;TZID=America/Chicago:20301011T140000
DTSTAMP:20260421T044616
CREATED:20260320T013614Z
LAST-MODIFIED:20260320T021412Z
UID:10007540-1917943200-1917957600@koinoniachurch.info
SUMMARY:Crafting Day
DESCRIPTION:
URL:https://koinoniachurch.info/event/crafting-day/2030-10-11/
CATEGORIES:Koinonia
ATTACH;FMTTYPE=image/jpeg:https://koinoniachurch.info/wp-content/uploads/2025/07/crafting.jpg
END:VEVENT
BEGIN:VEVENT
DTSTART;TZID=America/Chicago:20301018T100000
DTEND;TZID=America/Chicago:20301018T140000
DTSTAMP:20260421T044616
CREATED:20260320T013614Z
LAST-MODIFIED:20260320T021412Z
UID:10007541-1918548000-1918562400@koinoniachurch.info
SUMMARY:Crafting Day
DESCRIPTION:
URL:https://koinoniachurch.info/event/crafting-day/2030-10-18/
CATEGORIES:Koinonia
ATTACH;FMTTYPE=image/jpeg:https://koinoniachurch.info/wp-content/uploads/2025/07/crafting.jpg
END:VEVENT
BEGIN:VEVENT
DTSTART;TZID=America/Chicago:20301025T100000
DTEND;TZID=America/Chicago:20301025T140000
DTSTAMP:20260421T044616
CREATED:20260320T013614Z
LAST-MODIFIED:20260320T021412Z
UID:10007542-1919152800-1919167200@koinoniachurch.info
SUMMARY:Crafting Day
DESCRIPTION:
URL:https://koinoniachurch.info/event/crafting-day/2030-10-25/
CATEGORIES:Koinonia
ATTACH;FMTTYPE=image/jpeg:https://koinoniachurch.info/wp-content/uploads/2025/07/crafting.jpg
END:VEVENT
BEGIN:VEVENT
DTSTART;TZID=America/Chicago:20301101T100000
DTEND;TZID=America/Chicago:20301101T140000
DTSTAMP:20260421T044616
CREATED:20260320T013614Z
LAST-MODIFIED:20260320T021412Z
UID:10007543-1919757600-1919772000@koinoniachurch.info
SUMMARY:Crafting Day
DESCRIPTION:
URL:https://koinoniachurch.info/event/crafting-day/2030-11-01/
CATEGORIES:Koinonia
ATTACH;FMTTYPE=image/jpeg:https://koinoniachurch.info/wp-content/uploads/2025/07/crafting.jpg
END:VEVENT
BEGIN:VEVENT
DTSTART;TZID=America/Chicago:20301108T100000
DTEND;TZID=America/Chicago:20301108T140000
DTSTAMP:20260421T044616
CREATED:20260320T013614Z
LAST-MODIFIED:20260320T021412Z
UID:10007544-1920362400-1920376800@koinoniachurch.info
SUMMARY:Crafting Day
DESCRIPTION:
URL:https://koinoniachurch.info/event/crafting-day/2030-11-08/
CATEGORIES:Koinonia
ATTACH;FMTTYPE=image/jpeg:https://koinoniachurch.info/wp-content/uploads/2025/07/crafting.jpg
END:VEVENT
BEGIN:VEVENT
DTSTART;TZID=America/Chicago:20301115T100000
DTEND;TZID=America/Chicago:20301115T140000
DTSTAMP:20260421T044616
CREATED:20260320T013614Z
LAST-MODIFIED:20260320T021412Z
UID:10007545-1920967200-1920981600@koinoniachurch.info
SUMMARY:Crafting Day
DESCRIPTION:
URL:https://koinoniachurch.info/event/crafting-day/2030-11-15/
CATEGORIES:Koinonia
ATTACH;FMTTYPE=image/jpeg:https://koinoniachurch.info/wp-content/uploads/2025/07/crafting.jpg
END:VEVENT
BEGIN:VEVENT
DTSTART;TZID=America/Chicago:20301122T100000
DTEND;TZID=America/Chicago:20301122T140000
DTSTAMP:20260421T044616
CREATED:20260320T013614Z
LAST-MODIFIED:20260320T021412Z
UID:10007546-1921572000-1921586400@koinoniachurch.info
SUMMARY:Crafting Day
DESCRIPTION:
URL:https://koinoniachurch.info/event/crafting-day/2030-11-22/
CATEGORIES:Koinonia
ATTACH;FMTTYPE=image/jpeg:https://koinoniachurch.info/wp-content/uploads/2025/07/crafting.jpg
END:VEVENT
BEGIN:VEVENT
DTSTART;TZID=America/Chicago:20301129T100000
DTEND;TZID=America/Chicago:20301129T140000
DTSTAMP:20260421T044616
CREATED:20260320T013614Z
LAST-MODIFIED:20260320T021412Z
UID:10007547-1922176800-1922191200@koinoniachurch.info
SUMMARY:Crafting Day
DESCRIPTION:
URL:https://koinoniachurch.info/event/crafting-day/2030-11-29/
CATEGORIES:Koinonia
ATTACH;FMTTYPE=image/jpeg:https://koinoniachurch.info/wp-content/uploads/2025/07/crafting.jpg
END:VEVENT
BEGIN:VEVENT
DTSTART;TZID=America/Chicago:20301206T100000
DTEND;TZID=America/Chicago:20301206T140000
DTSTAMP:20260421T044616
CREATED:20260320T013614Z
LAST-MODIFIED:20260320T021412Z
UID:10007548-1922781600-1922796000@koinoniachurch.info
SUMMARY:Crafting Day
DESCRIPTION:
URL:https://koinoniachurch.info/event/crafting-day/2030-12-06/
CATEGORIES:Koinonia
ATTACH;FMTTYPE=image/jpeg:https://koinoniachurch.info/wp-content/uploads/2025/07/crafting.jpg
END:VEVENT
BEGIN:VEVENT
DTSTART;TZID=America/Chicago:20301213T100000
DTEND;TZID=America/Chicago:20301213T140000
DTSTAMP:20260421T044616
CREATED:20260320T013614Z
LAST-MODIFIED:20260320T021412Z
UID:10007549-1923386400-1923400800@koinoniachurch.info
SUMMARY:Crafting Day
DESCRIPTION:
URL:https://koinoniachurch.info/event/crafting-day/2030-12-13/
CATEGORIES:Koinonia
ATTACH;FMTTYPE=image/jpeg:https://koinoniachurch.info/wp-content/uploads/2025/07/crafting.jpg
END:VEVENT
BEGIN:VEVENT
DTSTART;TZID=America/Chicago:20301220T100000
DTEND;TZID=America/Chicago:20301220T140000
DTSTAMP:20260421T044616
CREATED:20260320T013614Z
LAST-MODIFIED:20260320T021412Z
UID:10007550-1923991200-1924005600@koinoniachurch.info
SUMMARY:Crafting Day
DESCRIPTION:
URL:https://koinoniachurch.info/event/crafting-day/2030-12-20/
CATEGORIES:Koinonia
ATTACH;FMTTYPE=image/jpeg:https://koinoniachurch.info/wp-content/uploads/2025/07/crafting.jpg
END:VEVENT
BEGIN:VEVENT
DTSTART;TZID=America/Chicago:20301227T100000
DTEND;TZID=America/Chicago:20301227T140000
DTSTAMP:20260421T044616
CREATED:20260320T013614Z
LAST-MODIFIED:20260320T021412Z
UID:10007551-1924596000-1924610400@koinoniachurch.info
SUMMARY:Crafting Day
DESCRIPTION:
URL:https://koinoniachurch.info/event/crafting-day/2030-12-27/
CATEGORIES:Koinonia
ATTACH;FMTTYPE=image/jpeg:https://koinoniachurch.info/wp-content/uploads/2025/07/crafting.jpg
END:VEVENT
BEGIN:VEVENT
DTSTART;TZID=America/Chicago:20310103T100000
DTEND;TZID=America/Chicago:20310103T140000
DTSTAMP:20260421T044616
CREATED:20260320T013614Z
LAST-MODIFIED:20260320T021412Z
UID:10007552-1925200800-1925215200@koinoniachurch.info
SUMMARY:Crafting Day
DESCRIPTION:
URL:https://koinoniachurch.info/event/crafting-day/2031-01-03/
CATEGORIES:Koinonia
ATTACH;FMTTYPE=image/jpeg:https://koinoniachurch.info/wp-content/uploads/2025/07/crafting.jpg
END:VEVENT
BEGIN:VEVENT
DTSTART;TZID=America/Chicago:20310110T100000
DTEND;TZID=America/Chicago:20310110T140000
DTSTAMP:20260421T044616
CREATED:20260320T013614Z
LAST-MODIFIED:20260320T021412Z
UID:10007553-1925805600-1925820000@koinoniachurch.info
SUMMARY:Crafting Day
DESCRIPTION:
URL:https://koinoniachurch.info/event/crafting-day/2031-01-10/
CATEGORIES:Koinonia
ATTACH;FMTTYPE=image/jpeg:https://koinoniachurch.info/wp-content/uploads/2025/07/crafting.jpg
END:VEVENT
BEGIN:VEVENT
DTSTART;TZID=America/Chicago:20310117T100000
DTEND;TZID=America/Chicago:20310117T140000
DTSTAMP:20260421T044616
CREATED:20260320T013614Z
LAST-MODIFIED:20260320T021412Z
UID:10007554-1926410400-1926424800@koinoniachurch.info
SUMMARY:Crafting Day
DESCRIPTION:
URL:https://koinoniachurch.info/event/crafting-day/2031-01-17/
CATEGORIES:Koinonia
ATTACH;FMTTYPE=image/jpeg:https://koinoniachurch.info/wp-content/uploads/2025/07/crafting.jpg
END:VEVENT
BEGIN:VEVENT
DTSTART;TZID=America/Chicago:20310124T100000
DTEND;TZID=America/Chicago:20310124T140000
DTSTAMP:20260421T044616
CREATED:20260320T013614Z
LAST-MODIFIED:20260320T021412Z
UID:10007555-1927015200-1927029600@koinoniachurch.info
SUMMARY:Crafting Day
DESCRIPTION:
URL:https://koinoniachurch.info/event/crafting-day/2031-01-24/
CATEGORIES:Koinonia
ATTACH;FMTTYPE=image/jpeg:https://koinoniachurch.info/wp-content/uploads/2025/07/crafting.jpg
END:VEVENT
BEGIN:VEVENT
DTSTART;TZID=America/Chicago:20310131T100000
DTEND;TZID=America/Chicago:20310131T140000
DTSTAMP:20260421T044616
CREATED:20260320T013614Z
LAST-MODIFIED:20260320T021412Z
UID:10007556-1927620000-1927634400@koinoniachurch.info
SUMMARY:Crafting Day
DESCRIPTION:
URL:https://koinoniachurch.info/event/crafting-day/2031-01-31/
CATEGORIES:Koinonia
ATTACH;FMTTYPE=image/jpeg:https://koinoniachurch.info/wp-content/uploads/2025/07/crafting.jpg
END:VEVENT
BEGIN:VEVENT
DTSTART;TZID=America/Chicago:20310207T100000
DTEND;TZID=America/Chicago:20310207T140000
DTSTAMP:20260421T044616
CREATED:20260320T013614Z
LAST-MODIFIED:20260320T021412Z
UID:10007557-1928224800-1928239200@koinoniachurch.info
SUMMARY:Crafting Day
DESCRIPTION:
URL:https://koinoniachurch.info/event/crafting-day/2031-02-07/
CATEGORIES:Koinonia
ATTACH;FMTTYPE=image/jpeg:https://koinoniachurch.info/wp-content/uploads/2025/07/crafting.jpg
END:VEVENT
BEGIN:VEVENT
DTSTART;TZID=America/Chicago:20310214T100000
DTEND;TZID=America/Chicago:20310214T140000
DTSTAMP:20260421T044616
CREATED:20260320T013614Z
LAST-MODIFIED:20260320T021412Z
UID:10007558-1928829600-1928844000@koinoniachurch.info
SUMMARY:Crafting Day
DESCRIPTION:
URL:https://koinoniachurch.info/event/crafting-day/2031-02-14/
CATEGORIES:Koinonia
ATTACH;FMTTYPE=image/jpeg:https://koinoniachurch.info/wp-content/uploads/2025/07/crafting.jpg
END:VEVENT
BEGIN:VEVENT
DTSTART;TZID=America/Chicago:20310221T100000
DTEND;TZID=America/Chicago:20310221T140000
DTSTAMP:20260421T044616
CREATED:20260320T013614Z
LAST-MODIFIED:20260320T021412Z
UID:10007559-1929434400-1929448800@koinoniachurch.info
SUMMARY:Crafting Day
DESCRIPTION:
URL:https://koinoniachurch.info/event/crafting-day/2031-02-21/
CATEGORIES:Koinonia
ATTACH;FMTTYPE=image/jpeg:https://koinoniachurch.info/wp-content/uploads/2025/07/crafting.jpg
END:VEVENT
BEGIN:VEVENT
DTSTART;TZID=America/Chicago:20310228T100000
DTEND;TZID=America/Chicago:20310228T140000
DTSTAMP:20260421T044616
CREATED:20260320T013614Z
LAST-MODIFIED:20260320T021412Z
UID:10007560-1930039200-1930053600@koinoniachurch.info
SUMMARY:Crafting Day
DESCRIPTION:
URL:https://koinoniachurch.info/event/crafting-day/2031-02-28/
CATEGORIES:Koinonia
ATTACH;FMTTYPE=image/jpeg:https://koinoniachurch.info/wp-content/uploads/2025/07/crafting.jpg
END:VEVENT
BEGIN:VEVENT
DTSTART;TZID=America/Chicago:20310307T100000
DTEND;TZID=America/Chicago:20310307T140000
DTSTAMP:20260421T044616
CREATED:20260320T013614Z
LAST-MODIFIED:20260320T021412Z
UID:10007561-1930644000-1930658400@koinoniachurch.info
SUMMARY:Crafting Day
DESCRIPTION:
URL:https://koinoniachurch.info/event/crafting-day/2031-03-07/
CATEGORIES:Koinonia
ATTACH;FMTTYPE=image/jpeg:https://koinoniachurch.info/wp-content/uploads/2025/07/crafting.jpg
END:VEVENT
BEGIN:VEVENT
DTSTART;TZID=America/Chicago:20310314T100000
DTEND;TZID=America/Chicago:20310314T140000
DTSTAMP:20260421T044616
CREATED:20260320T013614Z
LAST-MODIFIED:20260320T021412Z
UID:10007562-1931248800-1931263200@koinoniachurch.info
SUMMARY:Crafting Day
DESCRIPTION:
URL:https://koinoniachurch.info/event/crafting-day/2031-03-14/
CATEGORIES:Koinonia
ATTACH;FMTTYPE=image/jpeg:https://koinoniachurch.info/wp-content/uploads/2025/07/crafting.jpg
END:VEVENT
END:VCALENDAR