BEGIN:VCALENDAR
VERSION:2.0
PRODID:-//Koinonia Church - ECPv6.15.20//NONSGML v1.0//EN
CALSCALE:GREGORIAN
METHOD:PUBLISH
X-WR-CALNAME:Koinonia Church
X-ORIGINAL-URL:https://koinoniachurch.info
X-WR-CALDESC:Events for Koinonia Church
REFRESH-INTERVAL;VALUE=DURATION:PT1H
X-Robots-Tag:noindex
X-PUBLISHED-TTL:PT1H
BEGIN:VTIMEZONE
TZID:UTC
BEGIN:STANDARD
TZOFFSETFROM:+0000
TZOFFSETTO:+0000
TZNAME:UTC
DTSTART:20170101T000000
END:STANDARD
END:VTIMEZONE
BEGIN:VTIMEZONE
TZID:America/Indiana/Indianapolis
BEGIN:DAYLIGHT
TZOFFSETFROM:-0500
TZOFFSETTO:-0400
TZNAME:EDT
DTSTART:20170312T070000
END:DAYLIGHT
BEGIN:STANDARD
TZOFFSETFROM:-0400
TZOFFSETTO:-0500
TZNAME:EST
DTSTART:20171105T060000
END:STANDARD
BEGIN:DAYLIGHT
TZOFFSETFROM:-0500
TZOFFSETTO:-0400
TZNAME:EDT
DTSTART:20180311T070000
END:DAYLIGHT
BEGIN:STANDARD
TZOFFSETFROM:-0400
TZOFFSETTO:-0500
TZNAME:EST
DTSTART:20181104T060000
END:STANDARD
BEGIN:DAYLIGHT
TZOFFSETFROM:-0500
TZOFFSETTO:-0400
TZNAME:EDT
DTSTART:20190310T070000
END:DAYLIGHT
BEGIN:STANDARD
TZOFFSETFROM:-0400
TZOFFSETTO:-0500
TZNAME:EST
DTSTART:20191103T060000
END:STANDARD
END:VTIMEZONE
BEGIN:VEVENT
DTSTART;TZID=UTC:20181010T190000
DTEND;TZID=UTC:20181010T210000
DTSTAMP:20260425T065305
CREATED:20181009T033659Z
LAST-MODIFIED:20190213T071955Z
UID:10001355-1539198000-1539205200@koinoniachurch.info
SUMMARY:Ladies' Tea & Titus 2
DESCRIPTION:  \nLadies\, You’re Invited!\nJust wanted to remind everyone we are meeting this Wednesday for Tea & Titus 2.  We’d love to have you join us for our monthly ladies’ tea and Titus 2 devotional study \nTopic: Laying down our burdens. \nLocation: Laurie’s house at 8995 Navigation Circle\, Montgomery\, TX 77316\nWith Love\, \nLaurie
URL:https://koinoniachurch.info/event/tea-and-titus-2-2/
LOCATION:TX
CATEGORIES:Koinonia
ATTACH;FMTTYPE=image/jpeg:https://koinoniachurch.info/wp-content/uploads/2018/08/Tea-Time.jpg
END:VEVENT
BEGIN:VEVENT
DTSTART;TZID=UTC:20180905T190000
DTEND;TZID=UTC:20180905T210000
DTSTAMP:20260425T065305
CREATED:20180831T235346Z
LAST-MODIFIED:20190213T071956Z
UID:10001354-1536174000-1536181200@koinoniachurch.info
SUMMARY:Ladies' Tea & Titus 2
DESCRIPTION:Ladies\, You’re Invited!\n\nWe’d love to have you join us for our monthly ladies’ tea and Titus 2 devotional study. We discussed at our last summer meeting studying “Abigail” by  Nancy Demoss Wolgemuth.   If you would like to join us in that study\, I’m going to plan the devotionals around that book for a couple of meetings. \nGo ahead and get the book and work at your own pace.   If you have current Bible studies\, though\, and don’t want to add another—no pressure! If you would like to do the study\, the books can be purchased at Revive Our Hearts.  (Unfortunately\, they are not available at  Amazon) \nJoin Us for Tea!\nMark your calendars for September\, and we will plan to meet at my house at 7pm on September 5th! \nBlessings\, \nLaurie Stevens \n 
URL:https://koinoniachurch.info/event/tea-and-titus-2/
LOCATION:TX
CATEGORIES:Koinonia
ATTACH;FMTTYPE=image/jpeg:https://koinoniachurch.info/wp-content/uploads/2018/08/Tea-Time.jpg
END:VEVENT
BEGIN:VEVENT
DTSTART;TZID=UTC:20180902T180000
DTEND;TZID=UTC:20180902T210000
DTSTAMP:20260425T065305
CREATED:20180821T234308Z
LAST-MODIFIED:20190213T071956Z
UID:10001352-1535911200-1535922000@koinoniachurch.info
SUMMARY:Fantasy Football Draft
DESCRIPTION:Go Sportsball!\nCome to Pastor Dan’s house and experience all of the thrills and chills\, hopefully no spills\,  of the Fantasy Football Draft party.  It is a once a year event in which you get to show that you know absolutely nothing about football.  Come on out dudes!  There is a ten dollar buy in for the league and the winners (Top Three)  take all. \nThis is not an official church event.
URL:https://koinoniachurch.info/event/fantasy-football-draft/
LOCATION:Pastor Dan’s House\, 11305 Majestic Dr.\, Montgomery\, TX\, 77316\, United States
CATEGORIES:Koinonia
ATTACH;FMTTYPE=image/jpeg:https://koinoniachurch.info/wp-content/uploads/2018/08/fantasy-football.jpg
END:VEVENT
BEGIN:VEVENT
DTSTART;TZID=UTC:20180718T093000
DTEND;TZID=UTC:20180718T113000
DTSTAMP:20260425T065305
CREATED:20180609T031412Z
LAST-MODIFIED:20190213T071956Z
UID:10001348-1531906200-1531913400@koinoniachurch.info
SUMMARY:Summer Refresh 2018
DESCRIPTION:Topic: Marriage Builders \nTim Keller writes that when God invented marriage\, he already had the saving work of Jesus in mind. We will end our series with where we started–Christ in me. We will look this week at how that plays itself out in practical everyday life with our spouse.
URL:https://koinoniachurch.info/event/summer-refresh-2018-6/
LOCATION:Koinonia Church\, 11510 FM 1488\, Magnolia\, TX\, 77354\, United States
CATEGORIES:Koinonia
ATTACH;FMTTYPE=image/png:https://koinoniachurch.info/wp-content/uploads/2018/06/Summer-Refresh-2.png
END:VEVENT
BEGIN:VEVENT
DTSTART;TZID=UTC:20180711T190000
DTEND;TZID=UTC:20180711T210000
DTSTAMP:20260425T065305
CREATED:20180609T031012Z
LAST-MODIFIED:20190213T071956Z
UID:10001347-1531335600-1531342800@koinoniachurch.info
SUMMARY:Summer Refresh 2018
DESCRIPTION:Topic: Hospitality–More Than Having Folks to Dinner \nRosaria Butterfield has much to share in her own personal testimony and in her walk as a fellow Believer in what it means to be hospitable. An exciting look at hospitality! \nLocation: Tammy Guthrie’s Home \nNote: Times and location will change. Please check calendar for details on upcoming events.
URL:https://koinoniachurch.info/event/summer-refresh-2018-5/
LOCATION:TX
CATEGORIES:Koinonia
ATTACH;FMTTYPE=image/png:https://koinoniachurch.info/wp-content/uploads/2018/06/Summer-Refresh-2.png
END:VEVENT
BEGIN:VEVENT
DTSTART;TZID=UTC:20180705T190000
DTEND;TZID=UTC:20180705T210000
DTSTAMP:20260425T065305
CREATED:20180606T042207Z
LAST-MODIFIED:20190612T033622Z
UID:10001342-1530817200-1530824400@koinoniachurch.info
SUMMARY:Worship Night
DESCRIPTION:Come join us for a night of singing\, prayer and praise of our King!
URL:https://koinoniachurch.info/event/worship-night/
LOCATION:Koinonia Church\, 11510 FM 1488\, Magnolia\, TX\, 77354\, United States
CATEGORIES:Koinonia
ATTACH;FMTTYPE=image/jpeg:https://koinoniachurch.info/wp-content/uploads/2018/06/Worship-Night-Logo.jpg
ORGANIZER;CN="Koinonia Church":MAILTO:info@koinoniachurch.info
END:VEVENT
BEGIN:VEVENT
DTSTART;TZID=UTC:20180627T093000
DTEND;TZID=UTC:20180627T113000
DTSTAMP:20260425T065305
CREATED:20180609T030620Z
LAST-MODIFIED:20190213T071956Z
UID:10001346-1530091800-1530099000@koinoniachurch.info
SUMMARY:Summer Refresh 2018
DESCRIPTION:Topic: Equipped to Give an Answer \nThis week\, we will be discussing what your students are learning in the world around them. From park playdates to their college classrooms\, our kids and grandkids are learning about a world of problems that we need to be equipped to speak into with them in a relevant and God-glorifying way. \nNote: Times and location will change. Please check calendar for details on upcoming events.
URL:https://koinoniachurch.info/event/summer-refresh-2018-4/
LOCATION:Koinonia Church\, 11510 FM 1488\, Magnolia\, TX\, 77354\, United States
CATEGORIES:Koinonia
ATTACH;FMTTYPE=image/png:https://koinoniachurch.info/wp-content/uploads/2018/06/Summer-Refresh-2.png
END:VEVENT
BEGIN:VEVENT
DTSTART;TZID=UTC:20180625T190000
DTEND;TZID=UTC:20180625T210000
DTSTAMP:20260425T065305
CREATED:20180613T043612Z
LAST-MODIFIED:20190213T071956Z
UID:10001349-1529953200-1529960400@koinoniachurch.info
SUMMARY:Apologetics Class
DESCRIPTION:Join us as Dr. Mark Cole introduces the youth of our church to the subject of Apologetics.  This is a fantastic opportunity to sit under a great teacher!  
URL:https://koinoniachurch.info/event/apologetics-class/
LOCATION:Koinonia Church\, 11510 FM 1488\, Magnolia\, TX\, 77354\, United States
CATEGORIES:Koinonia
ATTACH;FMTTYPE=image/jpeg:https://koinoniachurch.info/wp-content/uploads/2018/06/Doctor_of_Apologetics_Photo.jpg
ORGANIZER;CN="Koinonia Church":MAILTO:info@koinoniachurch.info
END:VEVENT
BEGIN:VEVENT
DTSTART;TZID=UTC:20180620T190000
DTEND;TZID=UTC:20180620T210000
DTSTAMP:20260425T065305
CREATED:20180609T030042Z
LAST-MODIFIED:20190213T071956Z
UID:10001345-1529521200-1529528400@koinoniachurch.info
SUMMARY:Summer Refresh 2018
DESCRIPTION:Topic: Resisting the Temptation to Control \nWe all seek to control areas of our lives that worry us\, reflect poorly on our reputation\, or for which we are simply dissatisfied. And yet\, we have a good God who sees all and knows what we need. Lessons learned from some hard roads in which God is using for His good purposes. \nLocation: Laurie Stevens’ Home \nNote: Times and location will change. Please check calendar for details on upcoming events.
URL:https://koinoniachurch.info/event/summer-refresh-2018-3/
LOCATION:TX
CATEGORIES:Koinonia
ATTACH;FMTTYPE=image/png:https://koinoniachurch.info/wp-content/uploads/2018/06/Summer-Refresh-2.png
END:VEVENT
BEGIN:VEVENT
DTSTART;TZID=UTC:20180613T093000
DTEND;TZID=UTC:20180613T113000
DTSTAMP:20260425T065305
CREATED:20180609T024451Z
LAST-MODIFIED:20190213T071956Z
UID:10001344-1528882200-1528889400@koinoniachurch.info
SUMMARY:Summer Refresh 2018
DESCRIPTION:Topic: Overcoming Parenting Idols  Whether your kids are out of the house or filling your house\, we all face some basic idols that get in the way of being the parent God desires us to be. This week we will look at some of those idols and more importantly discuss how Christ enables us to overcome! \nNote: Times and locations will change. Please check our calendar for specific information for upcoming events. \n 
URL:https://koinoniachurch.info/event/summer-refresh-2018-2/
LOCATION:Koinonia Church\, 11510 FM 1488\, Magnolia\, TX\, 77354\, United States
CATEGORIES:Koinonia
ATTACH;FMTTYPE=image/png:https://koinoniachurch.info/wp-content/uploads/2018/06/Summer-Refresh-2.png
END:VEVENT
BEGIN:VEVENT
DTSTART;TZID=America/Indiana/Indianapolis:20180606T093000
DTEND;TZID=America/Indiana/Indianapolis:20180606T113000
DTSTAMP:20260425T065305
CREATED:20180609T023618Z
LAST-MODIFIED:20190213T071956Z
UID:10001343-1528277400-1528284600@koinoniachurch.info
SUMMARY:Summer Refresh 2018
DESCRIPTION:Topic: Christ in Me… Changes Everything \nThis concept is one that needs to continually remain before us! We will start here this summer and pray that God will turn our focus to Christ in every area we discuss in the following weeks. \nNote: Times and location will change. Please check the calendar for details on upcoming events.
URL:https://koinoniachurch.info/event/summer-refresh-2018/
LOCATION:Koinonia Church\, 11510 FM 1488\, Magnolia\, TX\, 77354\, United States
CATEGORIES:Koinonia
ATTACH;FMTTYPE=image/png:https://koinoniachurch.info/wp-content/uploads/2018/06/Summer-Refresh-2.png
END:VEVENT
BEGIN:VEVENT
DTSTART;TZID=UTC:20180602T140000
DTEND;TZID=UTC:20180602T140000
DTSTAMP:20260425T065305
CREATED:20180116T012819Z
LAST-MODIFIED:20190213T072029Z
UID:10001340-1527948000-1527948000@koinoniachurch.info
SUMMARY:Ballet Excelsior - Deliver Us - 2pm & 7pm
DESCRIPTION:Excelsior School of Dance invites you on a journey with us to Ancient Egypt for the acclaimed production of Deliver Us. This beautiful story will take you through the life of Moses from a baby through his battle with Pharaoh to free his people. You do not want to miss this show! \nWhen: June 2\, 2018\nWhere: Oak Ridge High School Auditorium\nTime: 2:00pm & 7:00pm \nTickets \nMore Info
URL:https://koinoniachurch.info/event/ballet-excelsior-deliver-us/
LOCATION:Oak Ridge High School Auditorium\, 27330 Oak Ridge School Rd\, Conroe\, TX\, 77385\, United States
CATEGORIES:Community
ATTACH;FMTTYPE=image/jpeg:https://koinoniachurch.info/wp-content/uploads/2018/01/Excelsior-Deliver-Us-2018.jpg
END:VEVENT
END:VCALENDAR