BEGIN:VCALENDAR
VERSION:2.0
PRODID:-//Koinonia Church - ECPv6.15.20//NONSGML v1.0//EN
CALSCALE:GREGORIAN
METHOD:PUBLISH
X-WR-CALNAME:Koinonia Church
X-ORIGINAL-URL:https://koinoniachurch.info
X-WR-CALDESC:Events for Koinonia Church
REFRESH-INTERVAL;VALUE=DURATION:PT1H
X-Robots-Tag:noindex
X-PUBLISHED-TTL:PT1H
BEGIN:VTIMEZONE
TZID:America/Chicago
BEGIN:DAYLIGHT
TZOFFSETFROM:-0600
TZOFFSETTO:-0500
TZNAME:CDT
DTSTART:20220313T080000
END:DAYLIGHT
BEGIN:STANDARD
TZOFFSETFROM:-0500
TZOFFSETTO:-0600
TZNAME:CST
DTSTART:20221106T070000
END:STANDARD
BEGIN:DAYLIGHT
TZOFFSETFROM:-0600
TZOFFSETTO:-0500
TZNAME:CDT
DTSTART:20230312T080000
END:DAYLIGHT
BEGIN:STANDARD
TZOFFSETFROM:-0500
TZOFFSETTO:-0600
TZNAME:CST
DTSTART:20231105T070000
END:STANDARD
BEGIN:DAYLIGHT
TZOFFSETFROM:-0600
TZOFFSETTO:-0500
TZNAME:CDT
DTSTART:20240310T080000
END:DAYLIGHT
BEGIN:STANDARD
TZOFFSETFROM:-0500
TZOFFSETTO:-0600
TZNAME:CST
DTSTART:20241103T070000
END:STANDARD
END:VTIMEZONE
BEGIN:VTIMEZONE
TZID:America/Chicago
BEGIN:DAYLIGHT
TZOFFSETFROM:-0600
TZOFFSETTO:-0500
TZNAME:CDT
DTSTART:20220313T080000
END:DAYLIGHT
BEGIN:STANDARD
TZOFFSETFROM:-0500
TZOFFSETTO:-0600
TZNAME:CST
DTSTART:20221106T070000
END:STANDARD
BEGIN:DAYLIGHT
TZOFFSETFROM:-0600
TZOFFSETTO:-0500
TZNAME:CDT
DTSTART:20230312T080000
END:DAYLIGHT
BEGIN:STANDARD
TZOFFSETFROM:-0500
TZOFFSETTO:-0600
TZNAME:CST
DTSTART:20231105T070000
END:STANDARD
BEGIN:DAYLIGHT
TZOFFSETFROM:-0600
TZOFFSETTO:-0500
TZNAME:CDT
DTSTART:20240310T080000
END:DAYLIGHT
BEGIN:STANDARD
TZOFFSETFROM:-0500
TZOFFSETTO:-0600
TZNAME:CST
DTSTART:20241103T070000
END:STANDARD
END:VTIMEZONE
BEGIN:VTIMEZONE
TZID:America/New_York
BEGIN:DAYLIGHT
TZOFFSETFROM:-0500
TZOFFSETTO:-0400
TZNAME:EDT
DTSTART:20220313T070000
END:DAYLIGHT
BEGIN:STANDARD
TZOFFSETFROM:-0400
TZOFFSETTO:-0500
TZNAME:EST
DTSTART:20221106T060000
END:STANDARD
BEGIN:DAYLIGHT
TZOFFSETFROM:-0500
TZOFFSETTO:-0400
TZNAME:EDT
DTSTART:20230312T070000
END:DAYLIGHT
BEGIN:STANDARD
TZOFFSETFROM:-0400
TZOFFSETTO:-0500
TZNAME:EST
DTSTART:20231105T060000
END:STANDARD
BEGIN:DAYLIGHT
TZOFFSETFROM:-0500
TZOFFSETTO:-0400
TZNAME:EDT
DTSTART:20240310T070000
END:DAYLIGHT
BEGIN:STANDARD
TZOFFSETFROM:-0400
TZOFFSETTO:-0500
TZNAME:EST
DTSTART:20241103T060000
END:STANDARD
END:VTIMEZONE
BEGIN:VEVENT
DTSTART;TZID=America/Chicago:20230828T113000
DTEND;TZID=America/Chicago:20230828T160000
DTSTAMP:20260421T141427
CREATED:20230404T024822Z
LAST-MODIFIED:20240505T222139Z
UID:10002793-1693222200-1693238400@koinoniachurch.info
SUMMARY:Club Explore
DESCRIPTION:This history class is through The Training Center.
URL:https://koinoniachurch.info/event/club-explore/2023-08-28/
CATEGORIES:Community
ATTACH;FMTTYPE=image/png:https://koinoniachurch.info/wp-content/uploads/2019/08/The-training-center.png
END:VEVENT
BEGIN:VEVENT
DTSTART;TZID=America/Chicago:20230827T104500
DTEND;TZID=America/Chicago:20230827T133000
DTSTAMP:20260421T141427
CREATED:20190826T214836Z
LAST-MODIFIED:20221221T143254Z
UID:10001930-1693133100-1693143000@koinoniachurch.info
SUMMARY:Sunday Morning Worship Service -  In Person and Streaming.
DESCRIPTION:Join us for Sunday school and Worship! We hold a fellowship meal after the service and invite visitors to stay for our fellowship time.
URL:https://koinoniachurch.info/event/sunday-morning-worship-service/2023-08-27/
LOCATION:Koinonia Church\, 11510 FM 1488\, Magnolia\, TX\, 77354\, United States
CATEGORIES:Koinonia
ATTACH;FMTTYPE=image/png:https://koinoniachurch.info/wp-content/uploads/2019/08/worship.png
END:VEVENT
BEGIN:VEVENT
DTSTART;TZID=America/Chicago:20230826T150000
DTEND;TZID=America/Chicago:20230826T233000
DTSTAMP:20260421T141427
CREATED:20221111T171018Z
LAST-MODIFIED:20221111T194453Z
UID:10002405-1693062000-1693092600@koinoniachurch.info
SUMMARY:Church Maintenance
DESCRIPTION:The church is closed for cleaning.
URL:https://koinoniachurch.info/event/church-maintenance/2023-08-26/
CATEGORIES:Community,Koinonia
ATTACH;FMTTYPE=image/png:https://koinoniachurch.info/wp-content/uploads/2022/10/K.png
END:VEVENT
BEGIN:VEVENT
DTSTART;TZID=America/Chicago:20230826T080000
DTEND;TZID=America/Chicago:20230826T150000
DTSTAMP:20260421T141427
CREATED:20230305T170402Z
LAST-MODIFIED:20230305T170402Z
UID:10002503-1693036800-1693062000@koinoniachurch.info
SUMMARY:South East Texas women’s Tres Dias #32
DESCRIPTION:Women’s Tres Dias team meeting.
URL:https://koinoniachurch.info/event/south-east-texas-womens-tres-dias-32-3/
CATEGORIES:Community
ATTACH;FMTTYPE=image/png:https://koinoniachurch.info/wp-content/uploads/2019/09/Screen-Shot-2020-03-06-at-2.16.44-PM.png
END:VEVENT
BEGIN:VEVENT
DTSTART;TZID=America/Chicago:20230825T080000
DTEND;TZID=America/Chicago:20230825T170000
DTSTAMP:20260421T141427
CREATED:20230802T014134Z
LAST-MODIFIED:20230802T014134Z
UID:10003646-1692950400-1692982800@koinoniachurch.info
SUMMARY:Tres Dias Set Up
DESCRIPTION:
URL:https://koinoniachurch.info/event/tres-dias-set-up/2023-08-25/
CATEGORIES:Community
END:VEVENT
BEGIN:VEVENT
DTSTART;TZID=America/Chicago:20230824T183000
DTEND;TZID=America/Chicago:20230824T203000
DTSTAMP:20260421T141427
CREATED:20221101T030203Z
LAST-MODIFIED:20241230T180317Z
UID:10002351-1692901800-1692909000@koinoniachurch.info
SUMMARY:SETTD Board Meeting
DESCRIPTION:SETTD monthly board meeting. Led by Curt Currie or Charlie Willis on the last Thursday of each month.
URL:https://koinoniachurch.info/event/settd-board-meeting-4/2023-08-24/
CATEGORIES:Community
ATTACH;FMTTYPE=image/png:https://koinoniachurch.info/wp-content/uploads/2019/09/Screen-Shot-2020-03-06-at-2.16.44-PM.png
END:VEVENT
BEGIN:VEVENT
DTSTART;TZID=America/Chicago:20230823T120000
DTEND;TZID=America/Chicago:20230823T163000
DTSTAMP:20260421T141427
CREATED:20230521T211106Z
LAST-MODIFIED:20230521T211106Z
UID:10002878-1692792000-1692808200@koinoniachurch.info
SUMMARY:LOGOS Speech & Debate
DESCRIPTION:Speech and Debate club
URL:https://koinoniachurch.info/event/logos-speech-debate/2023-08-23/
CATEGORIES:Community
ATTACH;FMTTYPE=image/png:https://koinoniachurch.info/wp-content/uploads/2019/02/NCFCA-Facebook.png
END:VEVENT
BEGIN:VEVENT
DTSTART;TZID=America/Chicago:20230822T163000
DTEND;TZID=America/Chicago:20230822T210000
DTSTAMP:20260421T141427
CREATED:20230517T002207Z
LAST-MODIFIED:20230822T200552Z
UID:10003894-1692721800-1692738000@koinoniachurch.info
SUMMARY:One Voice Speech & Debate Club
DESCRIPTION:Speech & debate coaching for One Voice members.
URL:https://koinoniachurch.info/event/one-voice-speech-debate-club/2023-08-22/
CATEGORIES:Community
ATTACH;FMTTYPE=image/png:https://koinoniachurch.info/wp-content/uploads/2019/02/NCFCA-Facebook.png
END:VEVENT
BEGIN:VEVENT
DTSTART;TZID=America/Chicago:20230822T123000
DTEND;TZID=America/Chicago:20230822T160000
DTSTAMP:20260421T141427
CREATED:20230807T160249Z
LAST-MODIFIED:20230807T160631Z
UID:10003652-1692707400-1692720000@koinoniachurch.info
SUMMARY:Drawing class
DESCRIPTION:Donna’s drawing class meeting temporarily for the month of August.
URL:https://koinoniachurch.info/event/drawing-class/2023-08-22/
LOCATION:Koinonia Church\, 11510 FM 1488\, Magnolia\, TX\, 77354\, United States
CATEGORIES:Community
ATTACH;FMTTYPE=image/jpeg:https://koinoniachurch.info/wp-content/uploads/2023/08/image-scaled.jpg
ORGANIZER;CN="Donna Rodgers":MAILTO:dcrodgers@eastex.net
END:VEVENT
BEGIN:VEVENT
DTSTART;TZID=America/Chicago:20230821T113000
DTEND;TZID=America/Chicago:20230821T160000
DTSTAMP:20260421T141427
CREATED:20230404T024822Z
LAST-MODIFIED:20240505T222139Z
UID:10002792-1692617400-1692633600@koinoniachurch.info
SUMMARY:Club Explore
DESCRIPTION:This history class is through The Training Center.
URL:https://koinoniachurch.info/event/club-explore/2023-08-21/
CATEGORIES:Community
ATTACH;FMTTYPE=image/png:https://koinoniachurch.info/wp-content/uploads/2019/08/The-training-center.png
END:VEVENT
BEGIN:VEVENT
DTSTART;TZID=America/Chicago:20230820T104500
DTEND;TZID=America/Chicago:20230820T133000
DTSTAMP:20260421T141427
CREATED:20190826T214836Z
LAST-MODIFIED:20221221T143254Z
UID:10001929-1692528300-1692538200@koinoniachurch.info
SUMMARY:Sunday Morning Worship Service -  In Person and Streaming.
DESCRIPTION:Join us for Sunday school and Worship! We hold a fellowship meal after the service and invite visitors to stay for our fellowship time.
URL:https://koinoniachurch.info/event/sunday-morning-worship-service/2023-08-20/
LOCATION:Koinonia Church\, 11510 FM 1488\, Magnolia\, TX\, 77354\, United States
CATEGORIES:Koinonia
ATTACH;FMTTYPE=image/png:https://koinoniachurch.info/wp-content/uploads/2019/08/worship.png
END:VEVENT
BEGIN:VEVENT
DTSTART;TZID=America/Chicago:20230819T150000
DTEND;TZID=America/Chicago:20230819T233000
DTSTAMP:20260421T141427
CREATED:20221111T171018Z
LAST-MODIFIED:20221111T194453Z
UID:10002404-1692457200-1692487800@koinoniachurch.info
SUMMARY:Church Maintenance
DESCRIPTION:The church is closed for cleaning.
URL:https://koinoniachurch.info/event/church-maintenance/2023-08-19/
CATEGORIES:Community,Koinonia
ATTACH;FMTTYPE=image/png:https://koinoniachurch.info/wp-content/uploads/2022/10/K.png
END:VEVENT
BEGIN:VEVENT
DTSTART;TZID=America/Chicago:20230815T163000
DTEND;TZID=America/Chicago:20230815T210000
DTSTAMP:20260421T141427
CREATED:20230517T002207Z
LAST-MODIFIED:20230822T200552Z
UID:10003893-1692117000-1692133200@koinoniachurch.info
SUMMARY:One Voice Speech & Debate Club
DESCRIPTION:Speech & debate coaching for One Voice members.
URL:https://koinoniachurch.info/event/one-voice-speech-debate-club/2023-08-15/
CATEGORIES:Community
ATTACH;FMTTYPE=image/png:https://koinoniachurch.info/wp-content/uploads/2019/02/NCFCA-Facebook.png
END:VEVENT
BEGIN:VEVENT
DTSTART;TZID=America/Chicago:20230815T123000
DTEND;TZID=America/Chicago:20230815T160000
DTSTAMP:20260421T141427
CREATED:20230807T160249Z
LAST-MODIFIED:20230807T160631Z
UID:10003651-1692102600-1692115200@koinoniachurch.info
SUMMARY:Drawing class
DESCRIPTION:Donna’s drawing class meeting temporarily for the month of August.
URL:https://koinoniachurch.info/event/drawing-class/2023-08-15/
LOCATION:Koinonia Church\, 11510 FM 1488\, Magnolia\, TX\, 77354\, United States
CATEGORIES:Community
ATTACH;FMTTYPE=image/jpeg:https://koinoniachurch.info/wp-content/uploads/2023/08/image-scaled.jpg
ORGANIZER;CN="Donna Rodgers":MAILTO:dcrodgers@eastex.net
END:VEVENT
BEGIN:VEVENT
DTSTART;TZID=America/Chicago:20230813T104500
DTEND;TZID=America/Chicago:20230813T133000
DTSTAMP:20260421T141427
CREATED:20190826T214836Z
LAST-MODIFIED:20221221T143254Z
UID:10001928-1691923500-1691933400@koinoniachurch.info
SUMMARY:Sunday Morning Worship Service -  In Person and Streaming.
DESCRIPTION:Join us for Sunday school and Worship! We hold a fellowship meal after the service and invite visitors to stay for our fellowship time.
URL:https://koinoniachurch.info/event/sunday-morning-worship-service/2023-08-13/
LOCATION:Koinonia Church\, 11510 FM 1488\, Magnolia\, TX\, 77354\, United States
CATEGORIES:Koinonia
ATTACH;FMTTYPE=image/png:https://koinoniachurch.info/wp-content/uploads/2019/08/worship.png
END:VEVENT
BEGIN:VEVENT
DTSTART;TZID=America/Chicago:20230812T150000
DTEND;TZID=America/Chicago:20230812T233000
DTSTAMP:20260421T141427
CREATED:20221111T171018Z
LAST-MODIFIED:20221111T194453Z
UID:10002403-1691852400-1691883000@koinoniachurch.info
SUMMARY:Church Maintenance
DESCRIPTION:The church is closed for cleaning.
URL:https://koinoniachurch.info/event/church-maintenance/2023-08-12/
CATEGORIES:Community,Koinonia
ATTACH;FMTTYPE=image/png:https://koinoniachurch.info/wp-content/uploads/2022/10/K.png
END:VEVENT
BEGIN:VEVENT
DTSTART;TZID=America/Chicago:20230812T080000
DTEND;TZID=America/Chicago:20230812T150000
DTSTAMP:20260421T141427
CREATED:20230305T170238Z
LAST-MODIFIED:20230305T170238Z
UID:10002502-1691827200-1691852400@koinoniachurch.info
SUMMARY:South East Texas women’s Tres Dias #32
DESCRIPTION:Women’s Tres Dias team meeting.
URL:https://koinoniachurch.info/event/south-east-texas-womens-tres-dias-32-2/
CATEGORIES:Community
ATTACH;FMTTYPE=image/png:https://koinoniachurch.info/wp-content/uploads/2019/09/Screen-Shot-2020-03-06-at-2.16.44-PM.png
END:VEVENT
BEGIN:VEVENT
DTSTART;TZID=America/Chicago:20230811T080000
DTEND;TZID=America/Chicago:20230811T120000
DTSTAMP:20260421T141427
CREATED:20230802T014134Z
LAST-MODIFIED:20230802T014134Z
UID:10003645-1691740800-1691755200@koinoniachurch.info
SUMMARY:Tres Dias Set Up
DESCRIPTION:
URL:https://koinoniachurch.info/event/tres-dias-set-up/2023-08-11/
CATEGORIES:Community
END:VEVENT
BEGIN:VEVENT
DTSTART;TZID=America/Chicago:20230809T090000
DTEND;TZID=America/Chicago:20230809T170000
DTSTAMP:20260421T141427
CREATED:20230521T211818Z
LAST-MODIFIED:20230807T191011Z
UID:10002913-1691571600-1691600400@koinoniachurch.info
SUMMARY:Logos Camp
DESCRIPTION:Speech & Debate Camp
URL:https://koinoniachurch.info/event/logos-camp-2/2023-08-09/
CATEGORIES:Community
ATTACH;FMTTYPE=image/png:https://koinoniachurch.info/wp-content/uploads/2019/02/NCFCA-Facebook.png
END:VEVENT
BEGIN:VEVENT
DTSTART;TZID=America/Chicago:20230808T090000
DTEND;TZID=America/Chicago:20230808T170000
DTSTAMP:20260421T141427
CREATED:20230521T211818Z
LAST-MODIFIED:20230807T191011Z
UID:10002912-1691485200-1691514000@koinoniachurch.info
SUMMARY:Logos Camp
DESCRIPTION:Speech & Debate Camp
URL:https://koinoniachurch.info/event/logos-camp-2/2023-08-08/
CATEGORIES:Community
ATTACH;FMTTYPE=image/png:https://koinoniachurch.info/wp-content/uploads/2019/02/NCFCA-Facebook.png
END:VEVENT
BEGIN:VEVENT
DTSTART;TZID=America/Chicago:20230807T090000
DTEND;TZID=America/Chicago:20230807T170000
DTSTAMP:20260421T141427
CREATED:20230521T211818Z
LAST-MODIFIED:20230807T191011Z
UID:10002911-1691398800-1691427600@koinoniachurch.info
SUMMARY:Logos Camp
DESCRIPTION:Speech & Debate Camp
URL:https://koinoniachurch.info/event/logos-camp-2/2023-08-07/
CATEGORIES:Community
ATTACH;FMTTYPE=image/png:https://koinoniachurch.info/wp-content/uploads/2019/02/NCFCA-Facebook.png
END:VEVENT
BEGIN:VEVENT
DTSTART;TZID=America/Chicago:20230806T104500
DTEND;TZID=America/Chicago:20230806T133000
DTSTAMP:20260421T141427
CREATED:20190826T214836Z
LAST-MODIFIED:20221221T143254Z
UID:10001927-1691318700-1691328600@koinoniachurch.info
SUMMARY:Sunday Morning Worship Service -  In Person and Streaming.
DESCRIPTION:Join us for Sunday school and Worship! We hold a fellowship meal after the service and invite visitors to stay for our fellowship time.
URL:https://koinoniachurch.info/event/sunday-morning-worship-service/2023-08-06/
LOCATION:Koinonia Church\, 11510 FM 1488\, Magnolia\, TX\, 77354\, United States
CATEGORIES:Koinonia
ATTACH;FMTTYPE=image/png:https://koinoniachurch.info/wp-content/uploads/2019/08/worship.png
END:VEVENT
BEGIN:VEVENT
DTSTART;TZID=America/Chicago:20230805T150000
DTEND;TZID=America/Chicago:20230805T233000
DTSTAMP:20260421T141427
CREATED:20221111T171018Z
LAST-MODIFIED:20221111T194453Z
UID:10002402-1691247600-1691278200@koinoniachurch.info
SUMMARY:Church Maintenance
DESCRIPTION:The church is closed for cleaning.
URL:https://koinoniachurch.info/event/church-maintenance/2023-08-05/
CATEGORIES:Community,Koinonia
ATTACH;FMTTYPE=image/png:https://koinoniachurch.info/wp-content/uploads/2022/10/K.png
END:VEVENT
BEGIN:VEVENT
DTSTART;TZID=America/Chicago:20230805T083000
DTEND;TZID=America/Chicago:20230805T123000
DTSTAMP:20260421T141427
CREATED:20230502T035053Z
LAST-MODIFIED:20230612T064316Z
UID:10002829-1691224200-1691238600@koinoniachurch.info
SUMMARY:Homeschooling 101 Workshop
DESCRIPTION:Families that are new to homeschooling or considering homeschooling are welcome to attend for free from 9 a.m. – noon.  Registration is required. \nThis workshop is geared for families who: \n-have decided to homeschool for the first time. \n-are considering other education options. \n– want to homeschool\, but don’t know where to start and what to do. \nTopics Include:\nBenefits of Homeschooling\nTexas Homeschooling Laws\nWhere Do I Start?\nBalancing School and Life \nREGISTER HERE https://docs.google.com/forms/d/1KzVmtkBDPAV5Yc15rq-E5Gr7oVfsU8T_3j7i2I_nDa0/edit
URL:https://koinoniachurch.info/event/homeschooling-101-workshop/
CATEGORIES:Koinonia
ATTACH;FMTTYPE=image/png:https://koinoniachurch.info/wp-content/uploads/2022/10/K.png
END:VEVENT
BEGIN:VEVENT
DTSTART;TZID=America/New_York:20230805T080000
DTEND;TZID=America/New_York:20230805T093000
DTSTAMP:20260421T141427
CREATED:20211204T204210Z
LAST-MODIFIED:20220125T205127Z
UID:10002557-1691222400-1691227800@koinoniachurch.info
SUMMARY:Men's Prayer Breakfast
DESCRIPTION:Men’s Prayer Breakfast
URL:https://koinoniachurch.info/event/mens-prayer-breakfast-20/2023-08-05/
LOCATION:Koinonia Church\, 11510 FM 1488\, Magnolia\, TX\, 77354\, United States
CATEGORIES:Koinonia
ATTACH;FMTTYPE=image/jpeg:https://koinoniachurch.info/wp-content/uploads/2018/06/mensprayerbreakfast.jpg
ORGANIZER;CN="Pastor Dan Woody":MAILTO:woodydad9396@gmail.com
END:VEVENT
BEGIN:VEVENT
DTSTART;TZID=America/Chicago:20230730T104500
DTEND;TZID=America/Chicago:20230730T133000
DTSTAMP:20260421T141427
CREATED:20190826T214836Z
LAST-MODIFIED:20221221T143254Z
UID:10001926-1690713900-1690723800@koinoniachurch.info
SUMMARY:Sunday Morning Worship Service -  In Person and Streaming.
DESCRIPTION:Join us for Sunday school and Worship! We hold a fellowship meal after the service and invite visitors to stay for our fellowship time.
URL:https://koinoniachurch.info/event/sunday-morning-worship-service/2023-07-30/
LOCATION:Koinonia Church\, 11510 FM 1488\, Magnolia\, TX\, 77354\, United States
CATEGORIES:Koinonia
ATTACH;FMTTYPE=image/png:https://koinoniachurch.info/wp-content/uploads/2019/08/worship.png
END:VEVENT
BEGIN:VEVENT
DTSTART;TZID=America/Chicago:20230729T150000
DTEND;TZID=America/Chicago:20230729T233000
DTSTAMP:20260421T141427
CREATED:20221111T171018Z
LAST-MODIFIED:20221111T194453Z
UID:10002401-1690642800-1690673400@koinoniachurch.info
SUMMARY:Church Maintenance
DESCRIPTION:The church is closed for cleaning.
URL:https://koinoniachurch.info/event/church-maintenance/2023-07-29/
CATEGORIES:Community,Koinonia
ATTACH;FMTTYPE=image/png:https://koinoniachurch.info/wp-content/uploads/2022/10/K.png
END:VEVENT
BEGIN:VEVENT
DTSTART;TZID=America/Chicago:20230729T080000
DTEND;TZID=America/Chicago:20230729T150000
DTSTAMP:20260421T141427
CREATED:20230305T170049Z
LAST-MODIFIED:20230305T170604Z
UID:10002501-1690617600-1690642800@koinoniachurch.info
SUMMARY:South East Texas women’s Tres Dias #32
DESCRIPTION:Women’s Tres Dias team meeting.
URL:https://koinoniachurch.info/event/south-east-texas-womens-tres-dias-32/
CATEGORIES:Community
ATTACH;FMTTYPE=image/png:https://koinoniachurch.info/wp-content/uploads/2019/09/Screen-Shot-2020-03-06-at-2.16.44-PM.png
END:VEVENT
BEGIN:VEVENT
DTSTART;TZID=America/Chicago:20230727T183000
DTEND;TZID=America/Chicago:20230727T203000
DTSTAMP:20260421T141427
CREATED:20221101T030203Z
LAST-MODIFIED:20241230T180317Z
UID:10002350-1690482600-1690489800@koinoniachurch.info
SUMMARY:SETTD Board Meeting
DESCRIPTION:SETTD monthly board meeting. Led by Curt Currie or Charlie Willis on the last Thursday of each month.
URL:https://koinoniachurch.info/event/settd-board-meeting-4/2023-07-27/
CATEGORIES:Community
ATTACH;FMTTYPE=image/png:https://koinoniachurch.info/wp-content/uploads/2019/09/Screen-Shot-2020-03-06-at-2.16.44-PM.png
END:VEVENT
BEGIN:VEVENT
DTSTART;TZID=America/Chicago:20230725T120000
DTEND;TZID=America/Chicago:20230725T160000
DTSTAMP:20260421T141427
CREATED:20230725T131449Z
LAST-MODIFIED:20230725T131449Z
UID:10003544-1690286400-1690300800@koinoniachurch.info
SUMMARY:Donna's Drawing Class
DESCRIPTION:Temporarily meeting at the church from 12-4pm for an ongoing drawing class.
URL:https://koinoniachurch.info/event/donnas-drawing-class/
ATTACH;FMTTYPE=image/jpeg:https://koinoniachurch.info/wp-content/uploads/2019/08/13912603_1225978524101449_6028590415544026187_n.jpg
END:VEVENT
END:VCALENDAR