BEGIN:VCALENDAR
VERSION:2.0
PRODID:-//Koinonia Church - ECPv6.15.20//NONSGML v1.0//EN
CALSCALE:GREGORIAN
METHOD:PUBLISH
X-ORIGINAL-URL:https://koinoniachurch.info
X-WR-CALDESC:Events for Koinonia Church
REFRESH-INTERVAL;VALUE=DURATION:PT1H
X-Robots-Tag:noindex
X-PUBLISHED-TTL:PT1H
BEGIN:VTIMEZONE
TZID:America/Chicago
BEGIN:DAYLIGHT
TZOFFSETFROM:-0600
TZOFFSETTO:-0500
TZNAME:CDT
DTSTART:20220313T080000
END:DAYLIGHT
BEGIN:STANDARD
TZOFFSETFROM:-0500
TZOFFSETTO:-0600
TZNAME:CST
DTSTART:20221106T070000
END:STANDARD
BEGIN:DAYLIGHT
TZOFFSETFROM:-0600
TZOFFSETTO:-0500
TZNAME:CDT
DTSTART:20230312T080000
END:DAYLIGHT
BEGIN:STANDARD
TZOFFSETFROM:-0500
TZOFFSETTO:-0600
TZNAME:CST
DTSTART:20231105T070000
END:STANDARD
BEGIN:DAYLIGHT
TZOFFSETFROM:-0600
TZOFFSETTO:-0500
TZNAME:CDT
DTSTART:20240310T080000
END:DAYLIGHT
BEGIN:STANDARD
TZOFFSETFROM:-0500
TZOFFSETTO:-0600
TZNAME:CST
DTSTART:20241103T070000
END:STANDARD
BEGIN:DAYLIGHT
TZOFFSETFROM:-0600
TZOFFSETTO:-0500
TZNAME:CDT
DTSTART:20250309T080000
END:DAYLIGHT
BEGIN:STANDARD
TZOFFSETFROM:-0500
TZOFFSETTO:-0600
TZNAME:CST
DTSTART:20251102T070000
END:STANDARD
BEGIN:DAYLIGHT
TZOFFSETFROM:-0600
TZOFFSETTO:-0500
TZNAME:CDT
DTSTART:20260308T080000
END:DAYLIGHT
BEGIN:STANDARD
TZOFFSETFROM:-0500
TZOFFSETTO:-0600
TZNAME:CST
DTSTART:20261101T070000
END:STANDARD
BEGIN:DAYLIGHT
TZOFFSETFROM:-0600
TZOFFSETTO:-0500
TZNAME:CDT
DTSTART:20270314T080000
END:DAYLIGHT
BEGIN:STANDARD
TZOFFSETFROM:-0500
TZOFFSETTO:-0600
TZNAME:CST
DTSTART:20271107T070000
END:STANDARD
END:VTIMEZONE
BEGIN:VEVENT
DTSTART;TZID=America/Chicago:20260404T080000
DTEND;TZID=America/Chicago:20260404T093000
DTSTAMP:20260419T195925
CREATED:20250603T134509Z
LAST-MODIFIED:20250603T134509Z
UID:10006109-1775289600-1775295000@koinoniachurch.info
SUMMARY:Men's Prayer Breakfast
DESCRIPTION:
URL:https://koinoniachurch.info/event/mens-prayer-breakfast-21/2026-04-04/
CATEGORIES:Koinonia
ATTACH;FMTTYPE=image/jpeg:https://koinoniachurch.info/wp-content/uploads/2025/06/coffee-15994_1280.jpg
END:VEVENT
BEGIN:VEVENT
DTSTART;TZID=America/Chicago:20260307T080000
DTEND;TZID=America/Chicago:20260307T093000
DTSTAMP:20260419T195925
CREATED:20250603T134509Z
LAST-MODIFIED:20250603T134509Z
UID:10006108-1772870400-1772875800@koinoniachurch.info
SUMMARY:Men's Prayer Breakfast
DESCRIPTION:
URL:https://koinoniachurch.info/event/mens-prayer-breakfast-21/2026-03-07/
CATEGORIES:Koinonia
ATTACH;FMTTYPE=image/jpeg:https://koinoniachurch.info/wp-content/uploads/2025/06/coffee-15994_1280.jpg
END:VEVENT
BEGIN:VEVENT
DTSTART;TZID=America/Chicago:20260207T080000
DTEND;TZID=America/Chicago:20260207T093000
DTSTAMP:20260419T195925
CREATED:20250603T134509Z
LAST-MODIFIED:20250603T134509Z
UID:10006107-1770451200-1770456600@koinoniachurch.info
SUMMARY:Men's Prayer Breakfast
DESCRIPTION:
URL:https://koinoniachurch.info/event/mens-prayer-breakfast-21/2026-02-07/
CATEGORIES:Koinonia
ATTACH;FMTTYPE=image/jpeg:https://koinoniachurch.info/wp-content/uploads/2025/06/coffee-15994_1280.jpg
END:VEVENT
BEGIN:VEVENT
DTSTART;TZID=America/Chicago:20260103T080000
DTEND;TZID=America/Chicago:20260103T093000
DTSTAMP:20260419T195925
CREATED:20250603T134509Z
LAST-MODIFIED:20250603T134509Z
UID:10006106-1767427200-1767432600@koinoniachurch.info
SUMMARY:Men's Prayer Breakfast
DESCRIPTION:
URL:https://koinoniachurch.info/event/mens-prayer-breakfast-21/2026-01-03/
CATEGORIES:Koinonia
ATTACH;FMTTYPE=image/jpeg:https://koinoniachurch.info/wp-content/uploads/2025/06/coffee-15994_1280.jpg
END:VEVENT
BEGIN:VEVENT
DTSTART;TZID=America/Chicago:20251206T080000
DTEND;TZID=America/Chicago:20251206T093000
DTSTAMP:20260419T195925
CREATED:20250603T134509Z
LAST-MODIFIED:20250603T134509Z
UID:10006105-1765008000-1765013400@koinoniachurch.info
SUMMARY:Men's Prayer Breakfast
DESCRIPTION:
URL:https://koinoniachurch.info/event/mens-prayer-breakfast-21/2025-12-06/
CATEGORIES:Koinonia
ATTACH;FMTTYPE=image/jpeg:https://koinoniachurch.info/wp-content/uploads/2025/06/coffee-15994_1280.jpg
END:VEVENT
BEGIN:VEVENT
DTSTART;TZID=America/Chicago:20251101T080000
DTEND;TZID=America/Chicago:20251101T093000
DTSTAMP:20260419T195925
CREATED:20250603T134509Z
LAST-MODIFIED:20250603T134509Z
UID:10006104-1761984000-1761989400@koinoniachurch.info
SUMMARY:Men's Prayer Breakfast
DESCRIPTION:
URL:https://koinoniachurch.info/event/mens-prayer-breakfast-21/2025-11-01/
CATEGORIES:Koinonia
ATTACH;FMTTYPE=image/jpeg:https://koinoniachurch.info/wp-content/uploads/2025/06/coffee-15994_1280.jpg
END:VEVENT
BEGIN:VEVENT
DTSTART;TZID=America/Chicago:20251004T080000
DTEND;TZID=America/Chicago:20251004T093000
DTSTAMP:20260419T195925
CREATED:20250603T134509Z
LAST-MODIFIED:20250603T134509Z
UID:10006103-1759564800-1759570200@koinoniachurch.info
SUMMARY:Men's Prayer Breakfast
DESCRIPTION:
URL:https://koinoniachurch.info/event/mens-prayer-breakfast-21/2025-10-04/
CATEGORIES:Koinonia
ATTACH;FMTTYPE=image/jpeg:https://koinoniachurch.info/wp-content/uploads/2025/06/coffee-15994_1280.jpg
END:VEVENT
BEGIN:VEVENT
DTSTART;TZID=America/Chicago:20250906T080000
DTEND;TZID=America/Chicago:20250906T093000
DTSTAMP:20260419T195925
CREATED:20250603T134509Z
LAST-MODIFIED:20250603T134509Z
UID:10006102-1757145600-1757151000@koinoniachurch.info
SUMMARY:Men's Prayer Breakfast
DESCRIPTION:
URL:https://koinoniachurch.info/event/mens-prayer-breakfast-21/2025-09-06/
CATEGORIES:Koinonia
ATTACH;FMTTYPE=image/jpeg:https://koinoniachurch.info/wp-content/uploads/2025/06/coffee-15994_1280.jpg
END:VEVENT
BEGIN:VEVENT
DTSTART;TZID=America/Chicago:20250802T080000
DTEND;TZID=America/Chicago:20250802T093000
DTSTAMP:20260419T195925
CREATED:20250603T134509Z
LAST-MODIFIED:20250603T134509Z
UID:10006101-1754121600-1754127000@koinoniachurch.info
SUMMARY:Men's Prayer Breakfast
DESCRIPTION:
URL:https://koinoniachurch.info/event/mens-prayer-breakfast-21/2025-08-02/
CATEGORIES:Koinonia
ATTACH;FMTTYPE=image/jpeg:https://koinoniachurch.info/wp-content/uploads/2025/06/coffee-15994_1280.jpg
END:VEVENT
BEGIN:VEVENT
DTSTART;TZID=America/Chicago:20250705T080000
DTEND;TZID=America/Chicago:20250705T093000
DTSTAMP:20260419T195925
CREATED:20250603T134509Z
LAST-MODIFIED:20250603T134509Z
UID:10006100-1751702400-1751707800@koinoniachurch.info
SUMMARY:Men's Prayer Breakfast
DESCRIPTION:
URL:https://koinoniachurch.info/event/mens-prayer-breakfast-21/2025-07-05/
CATEGORIES:Koinonia
ATTACH;FMTTYPE=image/jpeg:https://koinoniachurch.info/wp-content/uploads/2025/06/coffee-15994_1280.jpg
END:VEVENT
BEGIN:VEVENT
DTSTART;TZID=America/Chicago:20250607T080000
DTEND;TZID=America/Chicago:20250607T093000
DTSTAMP:20260419T195925
CREATED:20250603T134509Z
LAST-MODIFIED:20250603T134509Z
UID:10006099-1749283200-1749288600@koinoniachurch.info
SUMMARY:Men's Prayer Breakfast
DESCRIPTION:
URL:https://koinoniachurch.info/event/mens-prayer-breakfast-21/2025-06-07/
CATEGORIES:Koinonia
ATTACH;FMTTYPE=image/jpeg:https://koinoniachurch.info/wp-content/uploads/2025/06/coffee-15994_1280.jpg
END:VEVENT
BEGIN:VEVENT
DTSTART;TZID=America/Chicago:20240210T080000
DTEND;TZID=America/Chicago:20240210T150000
DTSTAMP:20260419T195925
CREATED:20231108T212058Z
LAST-MODIFIED:20231108T212058Z
UID:10003959-1707552000-1707577200@koinoniachurch.info
SUMMARY:Mason Moon/Deborah Brimm Wedding
DESCRIPTION:Rehearsal and Wedding
URL:https://koinoniachurch.info/event/mason-moon-deborah-brimm-wedding/2024-02-10/
CATEGORIES:Community,Koinonia
END:VEVENT
BEGIN:VEVENT
DTSTART;TZID=America/Chicago:20240209T080000
DTEND;TZID=America/Chicago:20240209T230000
DTSTAMP:20260419T195925
CREATED:20231108T212058Z
LAST-MODIFIED:20231108T212058Z
UID:10003958-1707465600-1707519600@koinoniachurch.info
SUMMARY:Mason Moon/Deborah Brimm Wedding
DESCRIPTION:Rehearsal and Wedding
URL:https://koinoniachurch.info/event/mason-moon-deborah-brimm-wedding/2024-02-09/
CATEGORIES:Community,Koinonia
END:VEVENT
BEGIN:VEVENT
DTSTART;TZID=America/Chicago:20231029T120000
DTEND;TZID=America/Chicago:20231029T140000
DTSTAMP:20260419T195925
CREATED:20231005T153058Z
LAST-MODIFIED:20231005T153058Z
UID:10003940-1698580800-1698588000@koinoniachurch.info
SUMMARY:Church Picnic
DESCRIPTION:Fellowship lunch will be on our future church property.
URL:https://koinoniachurch.info/event/church-picnic/
CATEGORIES:Koinonia
ATTACH;FMTTYPE=image/jpeg:https://koinoniachurch.info/wp-content/uploads/2019/04/hot-dog.jpg
END:VEVENT
BEGIN:VEVENT
DTSTART;TZID=America/Chicago:20230617T080000
DTEND;TZID=America/Chicago:20230617T130000
DTSTAMP:20260419T195925
CREATED:20230613T211828Z
LAST-MODIFIED:20230613T211932Z
UID:10003285-1686988800-1687006800@koinoniachurch.info
SUMMARY:James' Family Funeral
DESCRIPTION:Funeral for Jeanie James’ brother\, Richard.
URL:https://koinoniachurch.info/event/james-family-funeral/
CATEGORIES:Community
END:VEVENT
END:VCALENDAR