BEGIN:VCALENDAR
VERSION:2.0
PRODID:-//Koinonia Church - ECPv6.15.20//NONSGML v1.0//EN
CALSCALE:GREGORIAN
METHOD:PUBLISH
X-WR-CALNAME:Koinonia Church
X-ORIGINAL-URL:https://koinoniachurch.info
X-WR-CALDESC:Events for Koinonia Church
REFRESH-INTERVAL;VALUE=DURATION:PT1H
X-Robots-Tag:noindex
X-PUBLISHED-TTL:PT1H
BEGIN:VTIMEZONE
TZID:UTC
BEGIN:STANDARD
TZOFFSETFROM:+0000
TZOFFSETTO:+0000
TZNAME:UTC
DTSTART:20190101T000000
END:STANDARD
END:VTIMEZONE
BEGIN:VEVENT
DTSTART;TZID=UTC:20201028T173000
DTEND;TZID=UTC:20201028T203000
DTSTAMP:20260421T121239
CREATED:20200819T231448Z
LAST-MODIFIED:20200819T233236Z
UID:10002178-1603906200-1603917000@koinoniachurch.info
SUMMARY:NYT Rehearsal
DESCRIPTION:NYT Rehearsal
URL:https://koinoniachurch.info/event/nyt-rehearsal-4/2020-10-28/
LOCATION:Koinonia Church\, 11510 FM 1488\, Magnolia\, TX\, 77354\, United States
CATEGORIES:Community
END:VEVENT
BEGIN:VEVENT
DTSTART;TZID=UTC:20201024T090000
DTEND;TZID=UTC:20201024T140000
DTSTAMP:20260421T121239
CREATED:20200819T232115Z
LAST-MODIFIED:20200819T232115Z
UID:10002189-1603530000-1603548000@koinoniachurch.info
SUMMARY:NYT Rehearsal
DESCRIPTION:NYT Rehearsal
URL:https://koinoniachurch.info/event/nyt-rehearsal-5/2020-10-24/
LOCATION:Koinonia Church\, 11510 FM 1488\, Magnolia\, TX\, 77354\, United States
CATEGORIES:Community
END:VEVENT
BEGIN:VEVENT
DTSTART;TZID=UTC:20201023T173000
DTEND;TZID=UTC:20201023T203000
DTSTAMP:20260421T121239
CREATED:20200819T231448Z
LAST-MODIFIED:20200819T233236Z
UID:10002177-1603474200-1603485000@koinoniachurch.info
SUMMARY:NYT Rehearsal
DESCRIPTION:NYT Rehearsal
URL:https://koinoniachurch.info/event/nyt-rehearsal-4/2020-10-23/
LOCATION:Koinonia Church\, 11510 FM 1488\, Magnolia\, TX\, 77354\, United States
CATEGORIES:Community
END:VEVENT
BEGIN:VEVENT
DTSTART;TZID=UTC:20201021T173000
DTEND;TZID=UTC:20201021T203000
DTSTAMP:20260421T121239
CREATED:20200819T231448Z
LAST-MODIFIED:20200819T233236Z
UID:10002176-1603301400-1603312200@koinoniachurch.info
SUMMARY:NYT Rehearsal
DESCRIPTION:NYT Rehearsal
URL:https://koinoniachurch.info/event/nyt-rehearsal-4/2020-10-21/
LOCATION:Koinonia Church\, 11510 FM 1488\, Magnolia\, TX\, 77354\, United States
CATEGORIES:Community
END:VEVENT
BEGIN:VEVENT
DTSTART;TZID=UTC:20201017T090000
DTEND;TZID=UTC:20201017T140000
DTSTAMP:20260421T121239
CREATED:20200819T232115Z
LAST-MODIFIED:20200819T232115Z
UID:10002188-1602925200-1602943200@koinoniachurch.info
SUMMARY:NYT Rehearsal
DESCRIPTION:NYT Rehearsal
URL:https://koinoniachurch.info/event/nyt-rehearsal-5/2020-10-17/
LOCATION:Koinonia Church\, 11510 FM 1488\, Magnolia\, TX\, 77354\, United States
CATEGORIES:Community
END:VEVENT
BEGIN:VEVENT
DTSTART;TZID=UTC:20201016T173000
DTEND;TZID=UTC:20201016T203000
DTSTAMP:20260421T121239
CREATED:20200819T231448Z
LAST-MODIFIED:20200819T233236Z
UID:10002175-1602869400-1602880200@koinoniachurch.info
SUMMARY:NYT Rehearsal
DESCRIPTION:NYT Rehearsal
URL:https://koinoniachurch.info/event/nyt-rehearsal-4/2020-10-16/
LOCATION:Koinonia Church\, 11510 FM 1488\, Magnolia\, TX\, 77354\, United States
CATEGORIES:Community
END:VEVENT
BEGIN:VEVENT
DTSTART;TZID=UTC:20201014T173000
DTEND;TZID=UTC:20201014T203000
DTSTAMP:20260421T121239
CREATED:20200819T231448Z
LAST-MODIFIED:20200819T233236Z
UID:10002174-1602696600-1602707400@koinoniachurch.info
SUMMARY:NYT Rehearsal
DESCRIPTION:NYT Rehearsal
URL:https://koinoniachurch.info/event/nyt-rehearsal-4/2020-10-14/
LOCATION:Koinonia Church\, 11510 FM 1488\, Magnolia\, TX\, 77354\, United States
CATEGORIES:Community
END:VEVENT
BEGIN:VEVENT
DTSTART;TZID=UTC:20201010T090000
DTEND;TZID=UTC:20201010T140000
DTSTAMP:20260421T121239
CREATED:20200819T232115Z
LAST-MODIFIED:20200819T232115Z
UID:10002187-1602320400-1602338400@koinoniachurch.info
SUMMARY:NYT Rehearsal
DESCRIPTION:NYT Rehearsal
URL:https://koinoniachurch.info/event/nyt-rehearsal-5/2020-10-10/
LOCATION:Koinonia Church\, 11510 FM 1488\, Magnolia\, TX\, 77354\, United States
CATEGORIES:Community
END:VEVENT
BEGIN:VEVENT
DTSTART;TZID=UTC:20201009T173000
DTEND;TZID=UTC:20201009T203000
DTSTAMP:20260421T121239
CREATED:20200819T231448Z
LAST-MODIFIED:20200819T233236Z
UID:10002173-1602264600-1602275400@koinoniachurch.info
SUMMARY:NYT Rehearsal
DESCRIPTION:NYT Rehearsal
URL:https://koinoniachurch.info/event/nyt-rehearsal-4/2020-10-09/
LOCATION:Koinonia Church\, 11510 FM 1488\, Magnolia\, TX\, 77354\, United States
CATEGORIES:Community
END:VEVENT
BEGIN:VEVENT
DTSTART;TZID=UTC:20201007T173000
DTEND;TZID=UTC:20201007T203000
DTSTAMP:20260421T121239
CREATED:20200819T231448Z
LAST-MODIFIED:20200819T233236Z
UID:10002172-1602091800-1602102600@koinoniachurch.info
SUMMARY:NYT Rehearsal
DESCRIPTION:NYT Rehearsal
URL:https://koinoniachurch.info/event/nyt-rehearsal-4/2020-10-07/
LOCATION:Koinonia Church\, 11510 FM 1488\, Magnolia\, TX\, 77354\, United States
CATEGORIES:Community
END:VEVENT
BEGIN:VEVENT
DTSTART;TZID=UTC:20201003T090000
DTEND;TZID=UTC:20201003T140000
DTSTAMP:20260421T121239
CREATED:20200819T232115Z
LAST-MODIFIED:20200819T232115Z
UID:10002186-1601715600-1601733600@koinoniachurch.info
SUMMARY:NYT Rehearsal
DESCRIPTION:NYT Rehearsal
URL:https://koinoniachurch.info/event/nyt-rehearsal-5/2020-10-03/
LOCATION:Koinonia Church\, 11510 FM 1488\, Magnolia\, TX\, 77354\, United States
CATEGORIES:Community
END:VEVENT
BEGIN:VEVENT
DTSTART;TZID=UTC:20201002T173000
DTEND;TZID=UTC:20201002T203000
DTSTAMP:20260421T121239
CREATED:20200819T231448Z
LAST-MODIFIED:20200819T233236Z
UID:10002171-1601659800-1601670600@koinoniachurch.info
SUMMARY:NYT Rehearsal
DESCRIPTION:NYT Rehearsal
URL:https://koinoniachurch.info/event/nyt-rehearsal-4/2020-10-02/
LOCATION:Koinonia Church\, 11510 FM 1488\, Magnolia\, TX\, 77354\, United States
CATEGORIES:Community
END:VEVENT
BEGIN:VEVENT
DTSTART;TZID=UTC:20200930T173000
DTEND;TZID=UTC:20200930T203000
DTSTAMP:20260421T121239
CREATED:20200819T231448Z
LAST-MODIFIED:20200819T233236Z
UID:10002170-1601487000-1601497800@koinoniachurch.info
SUMMARY:NYT Rehearsal
DESCRIPTION:NYT Rehearsal
URL:https://koinoniachurch.info/event/nyt-rehearsal-4/2020-09-30/
LOCATION:Koinonia Church\, 11510 FM 1488\, Magnolia\, TX\, 77354\, United States
CATEGORIES:Community
END:VEVENT
BEGIN:VEVENT
DTSTART;TZID=UTC:20200929T170000
DTEND;TZID=UTC:20200929T200000
DTSTAMP:20260421T121239
CREATED:20200808T170957Z
LAST-MODIFIED:20200819T225600Z
UID:10002161-1601398800-1601409600@koinoniachurch.info
SUMMARY:NYT - Highlights from Tarzan
DESCRIPTION:NYT – Highlights from Tarzan
URL:https://koinoniachurch.info/event/nyt-highlights-from-tarzan/2020-09-29/
LOCATION:Koinonia Church\, 11510 FM 1488\, Magnolia\, TX\, 77354\, United States
CATEGORIES:Community
END:VEVENT
BEGIN:VEVENT
DTSTART;TZID=UTC:20200926T090000
DTEND;TZID=UTC:20200926T140000
DTSTAMP:20260421T121239
CREATED:20200819T232115Z
LAST-MODIFIED:20200819T232115Z
UID:10002185-1601110800-1601128800@koinoniachurch.info
SUMMARY:NYT Rehearsal
DESCRIPTION:NYT Rehearsal
URL:https://koinoniachurch.info/event/nyt-rehearsal-5/2020-09-26/
LOCATION:Koinonia Church\, 11510 FM 1488\, Magnolia\, TX\, 77354\, United States
CATEGORIES:Community
END:VEVENT
BEGIN:VEVENT
DTSTART;TZID=UTC:20200925T173000
DTEND;TZID=UTC:20200925T203000
DTSTAMP:20260421T121239
CREATED:20200819T231448Z
LAST-MODIFIED:20200819T233236Z
UID:10002169-1601055000-1601065800@koinoniachurch.info
SUMMARY:NYT Rehearsal
DESCRIPTION:NYT Rehearsal
URL:https://koinoniachurch.info/event/nyt-rehearsal-4/2020-09-25/
LOCATION:Koinonia Church\, 11510 FM 1488\, Magnolia\, TX\, 77354\, United States
CATEGORIES:Community
END:VEVENT
BEGIN:VEVENT
DTSTART;TZID=UTC:20200922T170000
DTEND;TZID=UTC:20200922T200000
DTSTAMP:20260421T121239
CREATED:20200808T170957Z
LAST-MODIFIED:20200819T225600Z
UID:10002160-1600794000-1600804800@koinoniachurch.info
SUMMARY:NYT - Highlights from Tarzan
DESCRIPTION:NYT – Highlights from Tarzan
URL:https://koinoniachurch.info/event/nyt-highlights-from-tarzan/2020-09-22/
LOCATION:Koinonia Church\, 11510 FM 1488\, Magnolia\, TX\, 77354\, United States
CATEGORIES:Community
END:VEVENT
BEGIN:VEVENT
DTSTART;TZID=UTC:20200919T080000
DTEND;TZID=UTC:20200919T163000
DTSTAMP:20260421T121239
CREATED:20200819T231108Z
LAST-MODIFIED:20200819T231108Z
UID:10002167-1600502400-1600533000@koinoniachurch.info
SUMMARY:NYT Auditions
DESCRIPTION:NYT Auditions
URL:https://koinoniachurch.info/event/nyt-auditions-2/
LOCATION:Koinonia Church\, 11510 FM 1488\, Magnolia\, TX\, 77354\, United States
END:VEVENT
BEGIN:VEVENT
DTSTART;TZID=UTC:20200918T120000
DTEND;TZID=UTC:20200918T220000
DTSTAMP:20260421T121239
CREATED:20200819T231001Z
LAST-MODIFIED:20200915T002010Z
UID:10002166-1600430400-1600466400@koinoniachurch.info
SUMMARY:NYT Auditions
DESCRIPTION:NYT Auditions
URL:https://koinoniachurch.info/event/nyt-auditions/2020-09-18/
CATEGORIES:Community
END:VEVENT
BEGIN:VEVENT
DTSTART;TZID=UTC:20200915T170000
DTEND;TZID=UTC:20200915T200000
DTSTAMP:20260421T121239
CREATED:20200808T170957Z
LAST-MODIFIED:20200819T225600Z
UID:10002159-1600189200-1600200000@koinoniachurch.info
SUMMARY:NYT - Highlights from Tarzan
DESCRIPTION:NYT – Highlights from Tarzan
URL:https://koinoniachurch.info/event/nyt-highlights-from-tarzan/2020-09-15/
LOCATION:Koinonia Church\, 11510 FM 1488\, Magnolia\, TX\, 77354\, United States
CATEGORIES:Community
END:VEVENT
BEGIN:VEVENT
DTSTART;TZID=UTC:20200908T170000
DTEND;TZID=UTC:20200908T200000
DTSTAMP:20260421T121239
CREATED:20200808T170957Z
LAST-MODIFIED:20200819T225600Z
UID:10002158-1599584400-1599595200@koinoniachurch.info
SUMMARY:NYT - Highlights from Tarzan
DESCRIPTION:NYT – Highlights from Tarzan
URL:https://koinoniachurch.info/event/nyt-highlights-from-tarzan/2020-09-08/
LOCATION:Koinonia Church\, 11510 FM 1488\, Magnolia\, TX\, 77354\, United States
CATEGORIES:Community
END:VEVENT
BEGIN:VEVENT
DTSTART;TZID=UTC:20200901T170000
DTEND;TZID=UTC:20200901T200000
DTSTAMP:20260421T121239
CREATED:20200808T170957Z
LAST-MODIFIED:20200819T225600Z
UID:10002157-1598979600-1598990400@koinoniachurch.info
SUMMARY:NYT - Highlights from Tarzan
DESCRIPTION:NYT – Highlights from Tarzan
URL:https://koinoniachurch.info/event/nyt-highlights-from-tarzan/2020-09-01/
LOCATION:Koinonia Church\, 11510 FM 1488\, Magnolia\, TX\, 77354\, United States
CATEGORIES:Community
END:VEVENT
BEGIN:VEVENT
DTSTART;TZID=UTC:20200825T170000
DTEND;TZID=UTC:20200825T200000
DTSTAMP:20260421T121239
CREATED:20200808T170957Z
LAST-MODIFIED:20200819T225600Z
UID:10002156-1598374800-1598385600@koinoniachurch.info
SUMMARY:NYT - Highlights from Tarzan
DESCRIPTION:NYT – Highlights from Tarzan
URL:https://koinoniachurch.info/event/nyt-highlights-from-tarzan/2020-08-25/
LOCATION:Koinonia Church\, 11510 FM 1488\, Magnolia\, TX\, 77354\, United States
CATEGORIES:Community
END:VEVENT
BEGIN:VEVENT
DTSTART;TZID=UTC:20200530T083000
DTEND;TZID=UTC:20200530T150000
DTSTAMP:20260421T121239
CREATED:20200527T075006Z
LAST-MODIFIED:20200527T075006Z
UID:10002150-1590827400-1590850800@koinoniachurch.info
SUMMARY:NYT Rehearsal
DESCRIPTION:
URL:https://koinoniachurch.info/event/nyt-rehearsal-3/
LOCATION:Koinonia Church\, 11510 FM 1488\, Magnolia\, TX\, 77354\, United States
CATEGORIES:Community
END:VEVENT
BEGIN:VEVENT
DTSTART;TZID=UTC:20200529T170000
DTEND;TZID=UTC:20200529T210000
DTSTAMP:20260421T121239
CREATED:20200527T074832Z
LAST-MODIFIED:20200527T075357Z
UID:10002149-1590771600-1590786000@koinoniachurch.info
SUMMARY:NYT Rehearsal
DESCRIPTION:
URL:https://koinoniachurch.info/event/nyt-rehearsal-2/
LOCATION:Koinonia Church\, 11510 FM 1488\, Magnolia\, TX\, 77354\, United States
CATEGORIES:Community
END:VEVENT
END:VCALENDAR