BEGIN:VCALENDAR
VERSION:2.0
PRODID:-//Koinonia Church - ECPv6.15.20//NONSGML v1.0//EN
CALSCALE:GREGORIAN
METHOD:PUBLISH
X-ORIGINAL-URL:https://koinoniachurch.info
X-WR-CALDESC:Events for Koinonia Church
REFRESH-INTERVAL;VALUE=DURATION:PT1H
X-Robots-Tag:noindex
X-PUBLISHED-TTL:PT1H
BEGIN:VTIMEZONE
TZID:UTC
BEGIN:STANDARD
TZOFFSETFROM:+0000
TZOFFSETTO:+0000
TZNAME:UTC
DTSTART:20190101T000000
END:STANDARD
END:VTIMEZONE
BEGIN:VEVENT
DTSTART;TZID=UTC:20220129T083000
DTEND;TZID=UTC:20220129T153000
DTSTAMP:20260421T074405
CREATED:20211203T195952Z
LAST-MODIFIED:20211203T195952Z
UID:10002536-1643445000-1643470200@koinoniachurch.info
SUMMARY:NYT: Peter Pan Rehearsal
DESCRIPTION:Rehearsal for NYT’s production of Peter Pan
URL:https://koinoniachurch.info/event/nyt-peter-pan-rehearsal/
LOCATION:Koinonia Church\, 11510 FM 1488\, Magnolia\, TX\, 77354\, United States
CATEGORIES:Community
END:VEVENT
BEGIN:VEVENT
DTSTART;TZID=UTC:20211120T093000
DTEND;TZID=UTC:20211120T130000
DTSTAMP:20260421T074405
CREATED:20210720T182209Z
LAST-MODIFIED:20210720T201008Z
UID:10002507-1637400600-1637413200@koinoniachurch.info
SUMMARY:Lion King Jr Strike Party
DESCRIPTION:Strike party for the cast of NYT’s Lion King Jr.
URL:https://koinoniachurch.info/event/lion-king-jr-strike-party/
LOCATION:Koinonia Church\, 11510 FM 1488\, Magnolia\, TX\, 77354\, United States
CATEGORIES:Community
END:VEVENT
BEGIN:VEVENT
DTSTART;TZID=UTC:20210925T093000
DTEND;TZID=UTC:20210925T153000
DTSTAMP:20260421T074405
CREATED:20210730T192620Z
LAST-MODIFIED:20210801T061025Z
UID:10002508-1632562200-1632583800@koinoniachurch.info
SUMMARY:NYT Lion King Jr Rehearsals
DESCRIPTION:Lion King Jr rehearsals
URL:https://koinoniachurch.info/event/nyt-lion-king-jr-rehearsals/
LOCATION:Koinonia Church\, 11510 FM 1488\, Magnolia\, TX\, 77354\, United States
CATEGORIES:Community
END:VEVENT
BEGIN:VEVENT
DTSTART;TZID=UTC:20210925T093000
DTEND;TZID=UTC:20210925T153000
DTSTAMP:20260421T074405
CREATED:20210507T190411Z
LAST-MODIFIED:20210507T190411Z
UID:10002092-1632562200-1632583800@koinoniachurch.info
SUMMARY:NYT Event
DESCRIPTION:
URL:https://koinoniachurch.info/event/nyt-event-7/
LOCATION:Koinonia Church\, 11510 FM 1488\, Magnolia\, TX\, 77354\, United States
CATEGORIES:Community
END:VEVENT
BEGIN:VEVENT
DTSTART;TZID=UTC:20210619T083000
DTEND;TZID=UTC:20210619T153000
DTSTAMP:20260421T074405
CREATED:20210122T060700Z
LAST-MODIFIED:20210122T061238Z
UID:10002301-1624091400-1624116600@koinoniachurch.info
SUMMARY:NYT West Side Story Auditions
DESCRIPTION:West Side Story Auditions
URL:https://koinoniachurch.info/event/west-side-story-auditions-2/
LOCATION:Koinonia Church\, 11510 FM 1488\, Magnolia\, TX\, 77354\, United States
CATEGORIES:Community
END:VEVENT
BEGIN:VEVENT
DTSTART;TZID=UTC:20210618T153000
DTEND;TZID=UTC:20210618T220000
DTSTAMP:20260421T074405
CREATED:20210122T060339Z
LAST-MODIFIED:20210122T061210Z
UID:10002300-1624030200-1624053600@koinoniachurch.info
SUMMARY:NYT West Side Story Auditions
DESCRIPTION:West Side Story Auditions
URL:https://koinoniachurch.info/event/west-side-story-auditions/
LOCATION:Koinonia Church\, 11510 FM 1488\, Magnolia\, TX\, 77354\, United States
CATEGORIES:Community
END:VEVENT
BEGIN:VEVENT
DTSTART;TZID=UTC:20210605T083000
DTEND;TZID=UTC:20210605T153000
DTSTAMP:20260421T074405
CREATED:20210122T060213Z
LAST-MODIFIED:20210122T061358Z
UID:10002299-1622881800-1622907000@koinoniachurch.info
SUMMARY:NYT High School Musical Auditions
DESCRIPTION:High School Musical Auditions
URL:https://koinoniachurch.info/event/high-school-musical-auditions-2/
LOCATION:Koinonia Church\, 11510 FM 1488\, Magnolia\, TX\, 77354\, United States
CATEGORIES:Community
END:VEVENT
BEGIN:VEVENT
DTSTART;TZID=UTC:20210604T153000
DTEND;TZID=UTC:20210604T220000
DTSTAMP:20260421T074405
CREATED:20210122T060114Z
LAST-MODIFIED:20210122T061107Z
UID:10002298-1622820600-1622844000@koinoniachurch.info
SUMMARY:NYT - High School Musical Auditions
DESCRIPTION:High School Musical Auditions
URL:https://koinoniachurch.info/event/high-school-musical-auditions/
LOCATION:Koinonia Church\, 11510 FM 1488\, Magnolia\, TX\, 77354\, United States
CATEGORIES:Community
END:VEVENT
BEGIN:VEVENT
DTSTART;TZID=UTC:20210601T180000
DTEND;TZID=UTC:20210601T210000
DTSTAMP:20260421T074405
CREATED:20210518T211407Z
LAST-MODIFIED:20210518T211508Z
UID:10002138-1622570400-1622581200@koinoniachurch.info
SUMMARY:NYT Summer Meeting
DESCRIPTION:
URL:https://koinoniachurch.info/event/nyt-summer-meeting/
LOCATION:Koinonia Church\, 11510 FM 1488\, Magnolia\, TX\, 77354\, United States
CATEGORIES:Community
END:VEVENT
BEGIN:VEVENT
DTSTART;TZID=UTC:20210327T090000
DTEND;TZID=UTC:20210327T140000
DTSTAMP:20260421T074405
CREATED:20201206T024117Z
LAST-MODIFIED:20201206T024117Z
UID:10002273-1616835600-1616853600@koinoniachurch.info
SUMMARY:NYT Rehearsals
DESCRIPTION:Annie Jr and Newsies Rehearsals
URL:https://koinoniachurch.info/event/nyt-rehearsals-8/
LOCATION:Koinonia Church\, 11510 FM 1488\, Magnolia\, TX\, 77354\, United States
CATEGORIES:Community
END:VEVENT
BEGIN:VEVENT
DTSTART;TZID=UTC:20210326T173000
DTEND;TZID=UTC:20210326T203000
DTSTAMP:20260421T074405
CREATED:20201206T024013Z
LAST-MODIFIED:20201206T024013Z
UID:10002272-1616779800-1616790600@koinoniachurch.info
SUMMARY:NYT Rehearsals
DESCRIPTION:Annie Jr and Newsies Rehearsals
URL:https://koinoniachurch.info/event/nyt-rehearsals-7/
LOCATION:Koinonia Church\, 11510 FM 1488\, Magnolia\, TX\, 77354\, United States
CATEGORIES:Community
END:VEVENT
BEGIN:VEVENT
DTSTART;TZID=UTC:20210313T090000
DTEND;TZID=UTC:20210313T140000
DTSTAMP:20260421T074405
CREATED:20201206T023827Z
LAST-MODIFIED:20201206T023827Z
UID:10002271-1615626000-1615644000@koinoniachurch.info
SUMMARY:NYT Rehearsals
DESCRIPTION:Annie Jr and Newsies Rehearsals
URL:https://koinoniachurch.info/event/nyt-rehearsals-6/
LOCATION:Koinonia Church\, 11510 FM 1488\, Magnolia\, TX\, 77354\, United States
CATEGORIES:Community
END:VEVENT
BEGIN:VEVENT
DTSTART;TZID=UTC:20210312T173000
DTEND;TZID=UTC:20210312T203000
DTSTAMP:20260421T074405
CREATED:20201206T023713Z
LAST-MODIFIED:20201206T023713Z
UID:10002270-1615570200-1615581000@koinoniachurch.info
SUMMARY:NYT Rehearsals
DESCRIPTION:Annie Jr and Newsies Rehearsals
URL:https://koinoniachurch.info/event/nyt-rehearsals-5/
LOCATION:Koinonia Church\, 11510 FM 1488\, Magnolia\, TX\, 77354\, United States
CATEGORIES:Community
END:VEVENT
BEGIN:VEVENT
DTSTART;TZID=UTC:20210306T090000
DTEND;TZID=UTC:20210306T140000
DTSTAMP:20260421T074405
CREATED:20201206T023522Z
LAST-MODIFIED:20201206T023522Z
UID:10002269-1615021200-1615039200@koinoniachurch.info
SUMMARY:NYT Rehearsals
DESCRIPTION:Annie Jr and Newsies Rehearsals
URL:https://koinoniachurch.info/event/nyt-rehearsals-4/
LOCATION:Koinonia Church\, 11510 FM 1488\, Magnolia\, TX\, 77354\, United States
CATEGORIES:Community
END:VEVENT
BEGIN:VEVENT
DTSTART;TZID=UTC:20210305T173000
DTEND;TZID=UTC:20210305T203000
DTSTAMP:20260421T074405
CREATED:20201206T023433Z
LAST-MODIFIED:20201206T024334Z
UID:10002268-1614965400-1614976200@koinoniachurch.info
SUMMARY:NYT Rehearsals
DESCRIPTION:Annie Jr and Newsies Rehearsals
URL:https://koinoniachurch.info/event/nyt-rehearsals-3/
LOCATION:Koinonia Church\, 11510 FM 1488\, Magnolia\, TX\, 77354\, United States
CATEGORIES:Community
END:VEVENT
BEGIN:VEVENT
DTSTART;TZID=UTC:20210213T090000
DTEND;TZID=UTC:20210213T140000
DTSTAMP:20260421T074405
CREATED:20201206T023244Z
LAST-MODIFIED:20201206T023244Z
UID:10002267-1613206800-1613224800@koinoniachurch.info
SUMMARY:NYT Rehearsals
DESCRIPTION:Annie Jr and Newsies Rehearsals
URL:https://koinoniachurch.info/event/nyt-rehearsals-2/
LOCATION:Koinonia Church\, 11510 FM 1488\, Magnolia\, TX\, 77354\, United States
CATEGORIES:Community
END:VEVENT
BEGIN:VEVENT
DTSTART;TZID=UTC:20210212T173000
DTEND;TZID=UTC:20210212T203000
DTSTAMP:20260421T074405
CREATED:20201206T023114Z
LAST-MODIFIED:20201206T023114Z
UID:10002266-1613151000-1613161800@koinoniachurch.info
SUMMARY:NYT Rehearsals
DESCRIPTION:Annie Jr and Newsies Rehearsals
URL:https://koinoniachurch.info/event/nyt-rehearsals/
LOCATION:Koinonia Church\, 11510 FM 1488\, Magnolia\, TX\, 77354\, United States
CATEGORIES:Community
END:VEVENT
BEGIN:VEVENT
DTSTART;TZID=UTC:20210130T090000
DTEND;TZID=UTC:20210130T140000
DTSTAMP:20260421T074405
CREATED:20201206T022924Z
LAST-MODIFIED:20201206T022924Z
UID:10002265-1611997200-1612015200@koinoniachurch.info
SUMMARY:NYT Annie Jr and Newsies Rehearsals
DESCRIPTION:Annie Jr and Newsies Rehearsals
URL:https://koinoniachurch.info/event/nyt-annie-jr-and-newsies-rehearsals/
CATEGORIES:Community
END:VEVENT
BEGIN:VEVENT
DTSTART;TZID=UTC:20210108T170000
DTEND;TZID=UTC:20210108T210000
DTSTAMP:20260421T074405
CREATED:20201104T235047Z
LAST-MODIFIED:20201104T235602Z
UID:10002260-1610125200-1610139600@koinoniachurch.info
SUMMARY:NYT Dance Boot Camp
DESCRIPTION:NYT Dance Boot Camp \n 
URL:https://koinoniachurch.info/event/nyt-dance-boot-camp/2021-01-08/
LOCATION:Koinonia Church\, 11510 FM 1488\, Magnolia\, TX\, 77354\, United States
CATEGORIES:Community
END:VEVENT
BEGIN:VEVENT
DTSTART;TZID=UTC:20210107T170000
DTEND;TZID=UTC:20210107T210000
DTSTAMP:20260421T074405
CREATED:20201104T235047Z
LAST-MODIFIED:20201104T235602Z
UID:10002259-1610038800-1610053200@koinoniachurch.info
SUMMARY:NYT Dance Boot Camp
DESCRIPTION:NYT Dance Boot Camp \n 
URL:https://koinoniachurch.info/event/nyt-dance-boot-camp/2021-01-07/
LOCATION:Koinonia Church\, 11510 FM 1488\, Magnolia\, TX\, 77354\, United States
CATEGORIES:Community
END:VEVENT
BEGIN:VEVENT
DTSTART;TZID=UTC:20210106T170000
DTEND;TZID=UTC:20210106T210000
DTSTAMP:20260421T074405
CREATED:20201104T235047Z
LAST-MODIFIED:20201104T235602Z
UID:10002258-1609952400-1609966800@koinoniachurch.info
SUMMARY:NYT Dance Boot Camp
DESCRIPTION:NYT Dance Boot Camp \n 
URL:https://koinoniachurch.info/event/nyt-dance-boot-camp/2021-01-06/
LOCATION:Koinonia Church\, 11510 FM 1488\, Magnolia\, TX\, 77354\, United States
CATEGORIES:Community
END:VEVENT
BEGIN:VEVENT
DTSTART;TZID=UTC:20210105T170000
DTEND;TZID=UTC:20210105T210000
DTSTAMP:20260421T074405
CREATED:20201104T235047Z
LAST-MODIFIED:20201104T235602Z
UID:10002257-1609866000-1609880400@koinoniachurch.info
SUMMARY:NYT Dance Boot Camp
DESCRIPTION:NYT Dance Boot Camp \n 
URL:https://koinoniachurch.info/event/nyt-dance-boot-camp/2021-01-05/
LOCATION:Koinonia Church\, 11510 FM 1488\, Magnolia\, TX\, 77354\, United States
CATEGORIES:Community
END:VEVENT
BEGIN:VEVENT
DTSTART;TZID=UTC:20210104T170000
DTEND;TZID=UTC:20210104T210000
DTSTAMP:20260421T074405
CREATED:20201104T235047Z
LAST-MODIFIED:20201104T235602Z
UID:10002256-1609779600-1609794000@koinoniachurch.info
SUMMARY:NYT Dance Boot Camp
DESCRIPTION:NYT Dance Boot Camp \n 
URL:https://koinoniachurch.info/event/nyt-dance-boot-camp/2021-01-04/
LOCATION:Koinonia Church\, 11510 FM 1488\, Magnolia\, TX\, 77354\, United States
CATEGORIES:Community
END:VEVENT
BEGIN:VEVENT
DTSTART;TZID=UTC:20201114T090000
DTEND;TZID=UTC:20201114T140000
DTSTAMP:20260421T074405
CREATED:20200819T232346Z
LAST-MODIFIED:20200819T232346Z
UID:10002192-1605344400-1605362400@koinoniachurch.info
SUMMARY:NYT Rehearsal
DESCRIPTION:NYT Rehearsal
URL:https://koinoniachurch.info/event/nyt-rehearsal-9/2020-11-14/
LOCATION:Koinonia Church\, 11510 FM 1488\, Magnolia\, TX\, 77354\, United States
CATEGORIES:Community
END:VEVENT
BEGIN:VEVENT
DTSTART;TZID=UTC:20201113T173000
DTEND;TZID=UTC:20201113T203000
DTSTAMP:20260421T074405
CREATED:20200819T231448Z
LAST-MODIFIED:20200819T233236Z
UID:10002183-1605288600-1605299400@koinoniachurch.info
SUMMARY:NYT Rehearsal
DESCRIPTION:NYT Rehearsal
URL:https://koinoniachurch.info/event/nyt-rehearsal-4/2020-11-13/
LOCATION:Koinonia Church\, 11510 FM 1488\, Magnolia\, TX\, 77354\, United States
CATEGORIES:Community
END:VEVENT
BEGIN:VEVENT
DTSTART;TZID=UTC:20201111T173000
DTEND;TZID=UTC:20201111T203000
DTSTAMP:20260421T074405
CREATED:20200819T231448Z
LAST-MODIFIED:20200819T233236Z
UID:10002182-1605115800-1605126600@koinoniachurch.info
SUMMARY:NYT Rehearsal
DESCRIPTION:NYT Rehearsal
URL:https://koinoniachurch.info/event/nyt-rehearsal-4/2020-11-11/
LOCATION:Koinonia Church\, 11510 FM 1488\, Magnolia\, TX\, 77354\, United States
CATEGORIES:Community
END:VEVENT
BEGIN:VEVENT
DTSTART;TZID=UTC:20201107T090000
DTEND;TZID=UTC:20201107T140000
DTSTAMP:20260421T074405
CREATED:20200819T232346Z
LAST-MODIFIED:20200819T232346Z
UID:10002191-1604739600-1604757600@koinoniachurch.info
SUMMARY:NYT Rehearsal
DESCRIPTION:NYT Rehearsal
URL:https://koinoniachurch.info/event/nyt-rehearsal-9/2020-11-07/
LOCATION:Koinonia Church\, 11510 FM 1488\, Magnolia\, TX\, 77354\, United States
CATEGORIES:Community
END:VEVENT
BEGIN:VEVENT
DTSTART;TZID=UTC:20201106T173000
DTEND;TZID=UTC:20201106T203000
DTSTAMP:20260421T074405
CREATED:20200819T231448Z
LAST-MODIFIED:20200819T233236Z
UID:10002181-1604683800-1604694600@koinoniachurch.info
SUMMARY:NYT Rehearsal
DESCRIPTION:NYT Rehearsal
URL:https://koinoniachurch.info/event/nyt-rehearsal-4/2020-11-06/
LOCATION:Koinonia Church\, 11510 FM 1488\, Magnolia\, TX\, 77354\, United States
CATEGORIES:Community
END:VEVENT
BEGIN:VEVENT
DTSTART;TZID=UTC:20201104T173000
DTEND;TZID=UTC:20201104T203000
DTSTAMP:20260421T074405
CREATED:20200819T231448Z
LAST-MODIFIED:20200819T233236Z
UID:10002180-1604511000-1604521800@koinoniachurch.info
SUMMARY:NYT Rehearsal
DESCRIPTION:NYT Rehearsal
URL:https://koinoniachurch.info/event/nyt-rehearsal-4/2020-11-04/
LOCATION:Koinonia Church\, 11510 FM 1488\, Magnolia\, TX\, 77354\, United States
CATEGORIES:Community
END:VEVENT
BEGIN:VEVENT
DTSTART;TZID=UTC:20201030T173000
DTEND;TZID=UTC:20201030T203000
DTSTAMP:20260421T074405
CREATED:20200819T231448Z
LAST-MODIFIED:20200819T233236Z
UID:10002179-1604079000-1604089800@koinoniachurch.info
SUMMARY:NYT Rehearsal
DESCRIPTION:NYT Rehearsal
URL:https://koinoniachurch.info/event/nyt-rehearsal-4/2020-10-30/
LOCATION:Koinonia Church\, 11510 FM 1488\, Magnolia\, TX\, 77354\, United States
CATEGORIES:Community
END:VEVENT
END:VCALENDAR